BEGIN:VCALENDAR
VERSION:2.0
PRODID:-//Treffpunkt Philosophie - ECPv6.15.20//NONSGML v1.0//EN
CALSCALE:GREGORIAN
METHOD:PUBLISH
X-WR-CALNAME:Treffpunkt Philosophie
X-ORIGINAL-URL:https://treffpunkt-philosophie.de
X-WR-CALDESC:Veranstaltungen für Treffpunkt Philosophie
REFRESH-INTERVAL;VALUE=DURATION:PT1H
X-Robots-Tag:noindex
X-PUBLISHED-TTL:PT1H
BEGIN:VTIMEZONE
TZID:UTC
BEGIN:STANDARD
TZOFFSETFROM:+0000
TZOFFSETTO:+0000
TZNAME:UTC
DTSTART:20250101T000000
END:STANDARD
END:VTIMEZONE
BEGIN:VEVENT
DTSTART;TZID=UTC:20260423T190000
DTEND;TZID=UTC:20260423T200000
DTSTAMP:20260423T144306
CREATED:20260410T132526Z
LAST-MODIFIED:20260414T105223Z
UID:20598-1776970800-1776974400@treffpunkt-philosophie.de
SUMMARY:Infoabend "Praktische Philosophie"
DESCRIPTION:Klar denken. Bewusst leben. Wirksam handeln. \n\n\n\nPraktische Philosophie – Klarheit und Haltung in einer komplexen Welt \n\n\n\nWir leben in einer Zeit voller Möglichkeiten – und gleichzeitig voller Unsicherheit.Viele spüren: Es reicht nicht mehr\, einfach weiterzumachen wie bisher. \n\n\n\nDer Kurs „Praktische Philosophie“ richtet sich an Menschen\, die bewusster leben\, klarer denken und verantwortungsvoll handeln wollen. \n\n\n\nHier geht es nicht um abstrakte Theorien\, sondern um konkrete Fragen: \n\n\n\n\nWie finde ich Orientierung in einer komplexen Welt?\n\n\n\nWas liegt wirklich in meiner Verantwortung – und was nicht?\n\n\n\nWie bleibe ich innerlich stabil\, auch wenn sich außen vieles verändert?\n\n\n\nWie kann ich sinnvoll wirken – im Kleinen wie im Großen?\n\n\n\n\nDu lernst\, philosophische Ansätze als Werkzeuge für deinen Alltag zu nutzen: \n\n\n\n\nfür mehr Klarheit im Denken\n\n\n\nfür bewusste Entscheidungen\n\n\n\nfür innere Stärke und Gelassenheit\n\n\n\nfür ein Leben mit Haltung und Richtung\n\n\n\n\nPraktische Philosophie bedeutet:nicht nur verstehen – sondern bewusst gestalten. \n\n\n\n\n\nFür Menschen\, die: \n\n\n\n\nsich selbst besser verstehen wollen\n\n\n\nOrientierung in einer komplexen Welt suchen\n\n\n\nund Verantwortung bewusst leben möchten\n\n\n\n\nSich selbst besser kennen und verstehen lernen: Was ist mir wirklich wichtig? Was ist der Mensch? Was ist die Seele? \n\n\n\nPhilosophie – nicht nur zum Nachdenken.Sondern zum Leben. \n\n\n\n\n\nAnmeldung erforderlich: \n\n\n\n\n\nWir freuen uns auf dich! \n\n\n\nInstagram\n\nFacebook\n\nWhatsApp\n\n\n\nBeispiele von unseren Aktionen zu Kultur\, Volontariat und Philosophie:
URL:https://treffpunkt-philosophie.de/veranstaltungen/infoabend-praktische-philosophie-3/
LOCATION:Nürnberg\, Königstraße 39\, Nürnberg\, Bayern\, 90402
CATEGORIES:Nürnberg
ATTACH;FMTTYPE=image/jpeg:https://treffpunkt-philosophie.de/wp-content/uploads/2025/02/unbenannt-6-2-scaled.jpg
ORGANIZER;CN="Treffpunkt Philosophie e.V. N%C3%BCrnberg":MAILTO:nuernberg@treffpunkt-philosophie.de
END:VEVENT
BEGIN:VEVENT
DTSTART;TZID=UTC:20260423T190000
DTEND;TZID=UTC:20260423T220000
DTSTAMP:20260423T144306
CREATED:20260128T154607Z
LAST-MODIFIED:20260330T215615Z
UID:20114-1776970800-1776981600@treffpunkt-philosophie.de
SUMMARY:Leibniz: Die beste aller möglichen Welten?
DESCRIPTION:Optimismus als metaphysisches Programm – ein philosophischer Workshop\n\n\n\n\n\n\n\n\n\n\n\n\n\nInhalt des Workshops: \n\n\n\nGottfried Wilhelm Leibniz\, der große Leipziger Philosoph\, zählt zu den originellsten und zugleich optimistischsten Denkerfiguren der europäischen Geistesgeschichte. Als Universalgelehrter arbeitete er an den Grundlagen der modernen Logik und Rechenmaschinen\, entwickelte frühe Theorien des Unbewussten und entwarf eine Metaphysik\, die Spiritualität\, Naturwissenschaft und Rationalität miteinander zu verbinden suchte. Sein Denken kreist um eine zentrale Überzeugung: dass diese Welt – bei aller erfahrbaren Unvollkommenheit – die beste aller möglichen Welten sei. \n\n\n\nDer Workshop führt in dieses berühmte\, oft missverstandene Optimismuspostulat ein und erschließt es als ein anspruchsvolles metaphysisches Programm. Im Zentrum steht die Frage\, wie Leibniz über Freiheit\, Übel\, göttliche Rationalität und Weltordnung denkt – und welche philosophische Sprengkraft dieses Modell bis heute besitzt. \n\n\n\nVon Leibniz zu lernen bedeutet: \n\n\n\n\ndas Böse nicht nur als Mangel\, sondern als Bedingung freier\, verantwortlicher Handlung zu begreifen\n\n\n\nden Menschen als dynamisches\, geistiges Kraftzentrum zu denken\n\n\n\nsichtbare Natur und unsichtbare Ordnung philosophisch zu vermitteln\n\n\n\n\n \n\n\n\n\n\nReferent: \n\n\n\nMartin Oßberger hat als Wissenschaftler in vielen Bereichen der Forschung und Entwicklung gearbeitet; in der pharmazeutischen Industrie\, der Hochschule\, in Gymnasien und non-profit Unternehmen. Seit 25 Jahren engagiert er sich ehrenamtlich\, anfangs bei der AIDS-Hilfe und Obdachlosenunterstützung. Dann begeisterte er sich für die praktische Philosophie\, die er beim gemeinnützigen Verein Treffpunkt Philosophie kennen lernte. Dort gibt er Kurse und bietet Seminare und erlebnispädagogische Veranstaltungen an. Vor fünf Jahren zog es ihn von seinem Geburtsort München nach Leipzig\, wo er den Vereinssitz von Treffpunkt Philosophie leitet. \n\n\n\n\n\n\n\n\n\nWeitere Informationen:Der Workshop mit praktischen Übungen und Diskussion richtet sich an alle\, Vorkenntnisse sind nicht erforderlich. \n\n\n\nPreise: \n\n\n\n\n10 € regulär\n\n\n\n6 € ermäßigt (für Schüler und Studenten bis 30 Jahren)\n\n\n\n\n\nPLATZ SICHERN\n\n\n\n\n \n\n\n\n\n\n\n\nWeitere EVENTS\n\n\n\nUnser Kurs Praktische Philosophie könnte dich auch interessieren: \n\n\n\n\nEine Reise durch die verschiedenen Philosophien und Weisheitslehren aus Ost und West an 19 Abenden\, mit philosophischen Gesprächen\, praktischen Übungen zur philosophischen Lebenskunst für den Alltag und Reflexion über die Lage der Welt & wie wir sie gemeinsam zum Besseren verändern können.  \n\n\n\nAre you up for the challenge? \n\n\n\n\nMehr Infos\n\n\n\nAnmelden\n\n\n\n\n\nFacebook\n\nInstagram\n\nWhatsApp
URL:https://treffpunkt-philosophie.de/veranstaltungen/die-beste-aller-moeglichen-welten/
LOCATION:Leipzig\, Käthe-Kollwitz-Str. 113\, Leipzig\, 04109
CATEGORIES:Leipzig
ATTACH;FMTTYPE=image/png:https://treffpunkt-philosophie.de/wp-content/uploads/2026/01/LPZ_TP-Webseite-LEIBNIZ_2026.png
END:VEVENT
BEGIN:VEVENT
DTSTART;TZID=UTC:20260423T200000
DTEND;TZID=UTC:20260423T210000
DTSTAMP:20260423T144306
CREATED:20230121T111115Z
LAST-MODIFIED:20260418T225330Z
UID:13864-1776974400-1776978000@treffpunkt-philosophie.de
SUMMARY:Philosophie lebt! Infostunde zum Kurs "Praktische Philosophie"
DESCRIPTION:Kostenlose Infostunde zum Kurs „Praktische Philosophie“. \n\n\n\nWas dich erwartet: \n\n\n\n\nPhilosophischer Input\n\n\n\nInfos zum Kurs\, der im Jahr 2026 beginnt\n\n\n\n\nErlebe Philosophie auf einfache und lebensnahe Weise! Erfahre an diesem Abend mehr über die Kursthemen sowie den Kursablauf und erhalte einen ersten Input zum Thema „Was ist der Mensch?“ \n\n\n\nBeginne das Abenteuer „Praktische Philosophie“ – eine Reise durch verschiedene Philosophien und Weisheitslehren aus Ost und West. Mit philosophischen Gesprächen\, praktischen Übungen zur philosophischen Lebenskunst im Alltag sowie Reflexionen über die Lage der Welt und darüber\, wie wir sie gemeinsam zum Besseren verändern können. \n\n\n\nAre you up for the challenge? \n\n\n\n\n\nInhalt des Kurses: \n\n\n\n\nWer bin ich? – Geist und Materie im Menschen\n\n\n\nWas ist der Sinn des Lebens? – Philosophie der Geschichte\n\n\n\nWie lebe ich gerecht? – Platon und sein Höhlengleichnis\n\n\n\nGibt es ein Leben nach dem Tod? – Spiritualität im alten Ägypten\n\n\n\nWarum gibt es Leid? – Buddhismus & der Weg der Goldenen Mitte\n\n\n\nWie können wir aktiv die Welt gestalten? – Gelebter Idealismus im Alltag\n\n\n\nWie erreiche ich Mut\, Gelassenheit & innere Freiheit? – „Carpe Diem“ in Rom\n\n\n\n\nFür wen ist der Kurs? \n\n\n\nBesondere Vorkenntnisse oder Vorbereitung sind nicht nötig \n\n\n\n\n\nWeitere Informationen zur Infostunde:PREISE: kostenlos \n\n\n\nINTERESSIERT?Besuche unsere kostenlose Infostunde:  \n\n\n\n\nAnmelden\n\n\n\n\nmuenchen@treffpunkt-philosophie.de \n\n\n\n\n\n\n\n\n\n\n\n\n\n\n\n\n\nKURSBEGINN: Jahr 2026\n\n\n\n\nMehr Infos
URL:https://treffpunkt-philosophie.de/veranstaltungen/philosophie-lebt-infostunde-zum-kurs-praktische-philosophie-10/
LOCATION:München\, Schwanthaler Straße 91\, München\, Bayern\, 80336\, Deutschland
CATEGORIES:München
ATTACH;FMTTYPE=image/png:https://treffpunkt-philosophie.de/wp-content/uploads/2022/12/cropped-TP_Flyer_Ausbildungskurs_2022-98-×-98-mm-1024x1024-1.png
ORGANIZER;CN="Treffpunkt Philosophie e.V. M%C3%BCnchen":MAILTO:muenchen@treffpunkt-philosophie.de
END:VEVENT
END:VCALENDAR