BEGIN:VCALENDAR
VERSION:2.0
PRODID:-//Treffpunkt Philosophie - ECPv6.15.20//NONSGML v1.0//EN
CALSCALE:GREGORIAN
METHOD:PUBLISH
X-WR-CALNAME:Treffpunkt Philosophie
X-ORIGINAL-URL:https://treffpunkt-philosophie.de
X-WR-CALDESC:Veranstaltungen für Treffpunkt Philosophie
REFRESH-INTERVAL;VALUE=DURATION:PT1H
X-Robots-Tag:noindex
X-PUBLISHED-TTL:PT1H
BEGIN:VTIMEZONE
TZID:UTC
BEGIN:STANDARD
TZOFFSETFROM:+0000
TZOFFSETTO:+0000
TZNAME:UTC
DTSTART:20150101T000000
END:STANDARD
END:VTIMEZONE
BEGIN:VEVENT
DTSTART;TZID=UTC:20160202T170000
DTEND;TZID=UTC:20160202T193000
DTSTAMP:20260424T140816
CREATED:20151225T031512Z
LAST-MODIFIED:20151225T031955Z
UID:1769-1454432400-1454441400@treffpunkt-philosophie.de
SUMMARY:Kurs „Praktische Philosophie“
DESCRIPTION:Hast du vielleicht Fragen wie:\n– Wer bin ich?\n– Wozu lebe ich?\n– Was ist wirklich wichtig im Leben?\n– Wie kann ich mein Leben besser gestalten?\n– Was ist Glück?\n– Was ist Gerechtigkeit?\n– Was kann ich für eine bessere Welt tun?\n– Wie gehe ich mit den Herausforderungen des Lebens um?\n– Wie entfalte ich meine Fähigkeiten? \nWeisheitslehren aus 5000 Jahren geben uns Antworten auf diese und weitere Fragen. \nDer Kurs „Praktische Philosophie“ vermittelt die Anwendung der philosophischen Lehren im Alltag durch Übungen und Volontariat. \nDie praktischen Übungen helfen dir z.B.:\n– die Gedanken zu ordnen\n– mit den Emotionen umzugehen\n– trotz Stress Ruhe zu bewahren\n– Prioritäten zu setzen und Entscheidungen zu fällen\n– selbstbewusst und klar zu kommunizieren \nDie Volunteer-Tätigkeiten helfen dir\, deine Möglichkeiten aber auch deine Grenzen kennenzulernen und auch erweitern. \nAußerdem lernst du\, die großen Zusammenhänge der Natur\, die Beweggründe der Menschen sowie den Sinn der Geschichte kennen. \nNeugierig? Dann sei dabei! \nWerde ein Philosoph! Stelle Fragen\, forsche und wende das Gelernte im Leben an! \nKursdauer:   18 Abende à 2 Stunden pro Woche \nKostenlose Schnupperstunde: am Di.\, 26.01. 19:00 Uhr \nKursbeitrag: € 230 (ermäßigt € 110\,- für Schüler und Studenten bis 30 Jahre) inkl. Skripten\, Übungen\, Volunteer-Angebote und weitere Aktivitäten.
URL:https://treffpunkt-philosophie.de/veranstaltungen/kurs-praktische-philosophie-12/
LOCATION:Nürnberg\, Königstraße 39\, Nürnberg\, Bayern\, 90402
CATEGORIES:Nürnberg
ATTACH;FMTTYPE=image/jpeg:https://treffpunkt-philosophie.de/wp-content/uploads/2015/09/philosophy_rocks-2015_web-2.jpg
END:VEVENT
BEGIN:VEVENT
DTSTART;TZID=UTC:20160203T163000
DTEND;TZID=UTC:20160203T173000
DTSTAMP:20260424T140816
CREATED:20151230T141538Z
LAST-MODIFIED:20151230T141538Z
UID:1780-1454517000-1454520600@treffpunkt-philosophie.de
SUMMARY:Infostunde zum Kurs „Praktische Philosophie“
DESCRIPTION:Beginne das Abenteuer „Praktische Philosophie“ in Stuttgart: Eine Reise durch die verschiedenen Philosophien und Weisheitslehren aus Ost und West an 18 Abenden\, mit philosophischen Gesprächen\, praktischen Übungen zur philosophischen Lebenskunst für den Alltag und Reflexion über die Lage der Welt & wie wir sie gemeinsam zum Besseren verändern können. \nAre you up for the challenge? \n\nWer bin ich? – Geist und Materie im Menschen\nWas ist der Sinn des Lebens? – Philosophie der Geschichte\nWie gelange ich zur Weisheit? – Platon und sein Höhlengleichnis\nWarum gibt es Leid? – Buddhismus & der Weg der Goldenen Mitte\nGibt es ein Leben nach dem Tod? – Spiritualität im alten Ägypten\nWie können wir aktiv die Welt gestalten? – Gelebter Idealismus im Alltag\nWie erreiche ich Mut\, Gelassenheit & innere Freiheit? – „Carpe Diem“ in Rom\n\nFür junge Idealisten\n \nBesuche eine unserer unverbindlichen Infostunden in Stuttgart: \nMi.\, 03.02. -> 18:30 Uhr \nDi.\, 09.02. -> 18:30 Uhr \nKursbeginn: Mittwoch\, 17. 02. 2016
URL:https://treffpunkt-philosophie.de/veranstaltungen/infostunde-zum-kurs-praktische-philosophie-17/
LOCATION:Stuttgart\, Theodor-Heuss-Str. 16\, Stuttgart\, 70174
CATEGORIES:Stuttgart
ATTACH;FMTTYPE=image/jpeg:https://treffpunkt-philosophie.de/wp-content/uploads/2015/10/Philosophie-rocks-15_allgemein-e1449050020984.jpg
END:VEVENT
BEGIN:VEVENT
DTSTART;TZID=UTC:20160209T163000
DTEND;TZID=UTC:20160209T173000
DTSTAMP:20260424T140816
CREATED:20151230T141843Z
LAST-MODIFIED:20151230T142525Z
UID:1781-1455035400-1455039000@treffpunkt-philosophie.de
SUMMARY:Infostunde zum Kurs „Praktische Philosophie“
DESCRIPTION:Beginne das Abenteuer „Praktische Philosophie“ in Stuttgart: Eine Reise durch die verschiedenen Philosophien und Weisheitslehren aus Ost und West an 18 Abenden\, mit philosophischen Gesprächen\, praktischen Übungen zur philosophischen Lebenskunst für den Alltag und Reflexion über die Lage der Welt & wie wir sie gemeinsam zum Besseren verändern können. \nAre you up for the challenge? \n\nWer bin ich? – Geist und Materie im Menschen\nWas ist der Sinn des Lebens? – Philosophie der Geschichte\nWarum gibt es Leid? – Buddhismus & der Weg der Goldenen Mitte\nWie gelange ich zur Weisheit? – Platon und sein Höhlengleichnis\nGibt es ein Leben nach dem Tod? – Spiritualität im alten Ägypten\nWie erreiche ich Mut\, Gelassenheit & innere Freiheit? – „Carpe Diem“ in Rom\nWie können wir aktiv die Welt gestalten? – Gelebter Idealismus im Alltag\n\nFür junge Idealisten\n \nBesuche eine unserer unverbindlichen Infostunden in Stuttgart: \nMi.\, 03.02. -> 18:30 Uhr \nDi.\, 09.02. -> 18:30 Uhr \nKursbeginn: Mittwoch\, 17. 02. 2016
URL:https://treffpunkt-philosophie.de/veranstaltungen/infostunde-zum-kurs-praktische-philosophie-18/
LOCATION:Stuttgart\, Theodor-Heuss-Str. 16\, Stuttgart\, 70174
CATEGORIES:Stuttgart
ATTACH;FMTTYPE=image/jpeg:https://treffpunkt-philosophie.de/wp-content/uploads/2015/10/Philosophie-rocks-15_allgemein-e1449050020984.jpg
END:VEVENT
BEGIN:VEVENT
DTSTART;TZID=UTC:20160210T170000
DTEND;TZID=UTC:20160210T190000
DTSTAMP:20260424T140816
CREATED:20151230T150226Z
LAST-MODIFIED:20151230T150740Z
UID:1783-1455123600-1455130800@treffpunkt-philosophie.de
SUMMARY:Macht der Gefühle
DESCRIPTION:Gefühle – die mächtigen Kräfte in uns \nNicht nur unsere Gedanken und Sinneseindrücke haben einen großen Einfluss auf uns\, auch die Gefühle leiten uns zu unseren Handlungen – oder Nichthandlungen. \nAll unser Denken und Handeln ist von Gefühlen geleitet. Ohne sie sind wir nichts. Schon die alten Ägypter erklärten das Herz zum Zentrum des Menschen. \nAn diesem Abend werden u.a. folgende Fragen behandelt: \n\nWelche Gefühle gibt es in uns?\nWie beeinträchtigen sie unser Leben?\nWie können wir diese mächtigen Kräfte in uns erkennen und beherrschen?\nWie können wir Verantwortung für unsere eigenen Gefühle und Handlungen übernehmen?\nWie erobern wir unsere höheren Gefühlswelten?\n\nKurzseminar mit zahlreichen praktischen Übungen \nMit Gudrun Gutdeutsch\, Leiterin von Treffpunkt Philosophie \n  \nStark sein bedeutet\, fühlen können. (Fernando Pessoa)
URL:https://treffpunkt-philosophie.de/veranstaltungen/macht-der-gefuehle/
LOCATION:Stuttgart\, Theodor-Heuss-Str. 16\, Stuttgart\, 70174
CATEGORIES:Stuttgart
ATTACH;FMTTYPE=image/jpeg:https://treffpunkt-philosophie.de/wp-content/uploads/2015/12/Gefuehle-web.jpg
END:VEVENT
BEGIN:VEVENT
DTSTART;TZID=UTC:20160216T170000
DTEND;TZID=UTC:20160216T180000
DTSTAMP:20260424T140816
CREATED:20151202T120257Z
LAST-MODIFIED:20151209T094844Z
UID:1691-1455642000-1455645600@treffpunkt-philosophie.de
SUMMARY:Infostunde zum Kurs „Praktische Philosophie“
DESCRIPTION:Beginne das Abenteuer „Praktische Philosophie“: Eine Reise durch die verschiedenen Philosophien und Weisheitslehren aus Ost und West an 18 Abenden\, mit philosophischen Gesprächen\, praktischen Übungen zur philosophischen Lebenskunst für den Alltag und Reflexion über die Lage der Welt & wie wir sie gemeinsam zum Besseren verändern können. \nAre you up for the challenge? \n\nWer bin ich? – Geist und Materie im Menschen\nWas ist der Sinn des Lebens? – Philosophie der Geschichte\nWie gelange ich zur Weisheit? – Platon und sein Höhlengleichnis\nGibt es ein Leben nach dem Tod? – Spiritualität im alten Ägypten\nWarum gibt es Leid? – Buddhismus & der Weg der Goldenen Mitte\nWie können wir aktiv die Welt gestalten? – Gelebter Idealismus im Alltag\nWie erreiche ich Mut\, Gelassenheit & innere Freiheit? – „Carpe Diem“ in Rom\n\n  \nBesuche unsere unverbindlichen Infostunden: \nDi.\, 16.2. -> 19.00 Uhr \nDi.\, 23.2. -> 19.00 Uhr \nDi.\, 1.3. -> 19.00 Uhr \nKursbeginn: Dienstag\, 8. 3. 2016\, 19 – 21:15
URL:https://treffpunkt-philosophie.de/veranstaltungen/infostunde-zum-kurs-praktische-philosophie-9/
LOCATION:München\, Schwanthaler Straße 91\, München\, Bayern\, 80336\, Deutschland
CATEGORIES:München
END:VEVENT
BEGIN:VEVENT
DTSTART;TZID=UTC:20160217T160000
DTEND;TZID=UTC:20160217T180000
DTSTAMP:20260424T140816
CREATED:20151230T135502Z
LAST-MODIFIED:20151230T135630Z
UID:1778-1455724800-1455732000@treffpunkt-philosophie.de
SUMMARY:Kurs "Praktische Philosophie"
DESCRIPTION:Eine Reise durch die verschiedenen Philosophien und Weisheitslehren aus Ost und West an 18 Abenden in Stuttgart \nDer Ausbildungskurs »Praktische Philosophie« vermittelt Philosophie als Lebenskunst\, einfach\, direkt und lebensnah. Durch die Philosophie (= Suche nach Weisheit) verstehst du das Leben\, dich selbst und den Sinn hinter den Ereignissen. Sie gibt dir mehr Bewusstsein und Tiefe im Alltag. \nPraktische Philosophie ermöglicht dir\, ein aktiver Gestalter deines Umfelds zu sein – mit Verantwortung für dich selbst\, andere Menschen und die Umwelt. Praktische Philosophie lehrt Werte und Tugenden und bietet dir konkretes Handwerkszeug für eine Welt im Umbruch. Get up\, stand up – for your life! \nEine Reise durch die verschiedenen Philosophien und Weisheitslehren aus Ost und West an 18 Abenden\, mit philosophischen Gesprächen\, praktischen Übungen zur philosophischen Lebenskunst für den Alltag und Reflexion über die Lage der Welt & wie wir sie gemeinsam zum Besseren verändern können. Are you up for the challenge? \n\nWer bin ich? – Geist und Materie im Menschen\nWas ist der Sinn des Lebens? – Philosophie der Geschichte\nWie gelange ich zur Weisheit? – Platon und sein Höhlengleichnis\nGibt es ein Leben nach dem Tod? – Spiritualität im alten Ägypten\nWarum gibt es Leid? – Buddhismus & der Weg der Goldenen Mitte\nWie können wir aktiv die Welt gestalten? – Gelebter Idealismus im Alltag\nWie erreiche ich Mut\, Gelassenheit & innere Freiheit? – „Carpe Diem“ in Rom\n\nFür junge Idealisten \nKursbeginn: Mittwoch\, 17.02.2016\, 18:00 – 20:00
URL:https://treffpunkt-philosophie.de/veranstaltungen/kurs-praktische-philosophie-13/
LOCATION:Stuttgart\, Theodor-Heuss-Str. 16\, Stuttgart\, 70174
CATEGORIES:Stuttgart
ATTACH;FMTTYPE=image/jpeg:https://treffpunkt-philosophie.de/wp-content/uploads/2015/10/Philosophie-rocks-15_allgemein-e1449050020984.jpg
END:VEVENT
BEGIN:VEVENT
DTSTART;TZID=UTC:20160223T170000
DTEND;TZID=UTC:20160223T180000
DTSTAMP:20260424T140816
CREATED:20151202T120742Z
LAST-MODIFIED:20151209T094812Z
UID:1692-1456246800-1456250400@treffpunkt-philosophie.de
SUMMARY:Infostunde zum Kurs „Praktische Philosophie“
DESCRIPTION:Beginne das Abenteuer „Praktische Philosophie“: Eine Reise durch die verschiedenen Philosophien und Weisheitslehren aus Ost und West an 18 Abenden\, mit philosophischen Gesprächen\, praktischen Übungen zur philosophischen Lebenskunst für den Alltag und Reflexion über die Lage der Welt & wie wir sie gemeinsam zum Besseren verändern können. \nAre you up for the challenge? \n\nWer bin ich? – Geist und Materie im Menschen\nWas ist der Sinn des Lebens? – Philosophie der Geschichte\nWie gelange ich zur Weisheit? – Platon und sein Höhlengleichnis\nGibt es ein Leben nach dem Tod? – Spiritualität im alten Ägypten\nWarum gibt es Leid? – Buddhismus & der Weg der Goldenen Mitte\nWie können wir aktiv die Welt gestalten? – Gelebter Idealismus im Alltag\nWie erreiche ich Mut\, Gelassenheit & innere Freiheit? – „Carpe Diem“ in Rom\n\n  \nBesuche unsere unverbindlichen Infostunden: \nDi.\, 16.2. -> 19.00 Uhr \nDi.\, 23.2. -> 19.00 Uhr \nDi.\, 1.3. -> 19.00 Uhr \n  \nKursbeginn: Dienstag\, 8. 3. 2016\, 19 – 21:15
URL:https://treffpunkt-philosophie.de/veranstaltungen/infostunde-zum-kurs-praktische-philosophie-10/
LOCATION:München\, Schwanthaler Straße 91\, München\, Bayern\, 80336\, Deutschland
CATEGORIES:München
END:VEVENT
BEGIN:VEVENT
DTSTART;TZID=UTC:20160229T170000
DTEND;TZID=UTC:20160229T200000
DTSTAMP:20260424T140816
CREATED:20160115T191042Z
LAST-MODIFIED:20160219T105435Z
UID:1789-1456765200-1456776000@treffpunkt-philosophie.de
SUMMARY:Der philosophische Werkzeugkasten - Platons große Dialoge
DESCRIPTION:Platons große Dialoge berühren die Grundfragen des Menschen: Was ist uns heilig? Woraus besteht die Seele? Wofür leben wir? Und was ist es wert\, dafür zu sterben? \n\nÜber Eros\, Liebe und Schönheit – Das Gastmahl\nDer Flug der Seele – Phaidros\nDer Sieg über die Angst vor dem Leben – Phaidon\n\nWorkshop mit praktischen Übungen. \nMit Gudrun Gutdeutsch\, Suzana Müller und Heribert Holzinger. \n 
URL:https://treffpunkt-philosophie.de/veranstaltungen/der-philosophische-werkzeugkasten-platons-grosse-dialoge/
LOCATION:München\, Schwanthaler Straße 91\, München\, Bayern\, 80336\, Deutschland
CATEGORIES:München
ATTACH;FMTTYPE=image/jpeg:https://treffpunkt-philosophie.de/wp-content/uploads/2016/01/Platon-web.jpg
END:VEVENT
END:VCALENDAR