BEGIN:VCALENDAR
VERSION:2.0
PRODID:-//Treffpunkt Philosophie - ECPv6.15.20//NONSGML v1.0//EN
CALSCALE:GREGORIAN
METHOD:PUBLISH
X-WR-CALNAME:Treffpunkt Philosophie
X-ORIGINAL-URL:https://treffpunkt-philosophie.de
X-WR-CALDESC:Veranstaltungen für Treffpunkt Philosophie
REFRESH-INTERVAL;VALUE=DURATION:PT1H
X-Robots-Tag:noindex
X-PUBLISHED-TTL:PT1H
BEGIN:VTIMEZONE
TZID:UTC
BEGIN:STANDARD
TZOFFSETFROM:+0000
TZOFFSETTO:+0000
TZNAME:UTC
DTSTART:20250101T000000
END:STANDARD
END:VTIMEZONE
BEGIN:VEVENT
DTSTART;TZID=UTC:20260319T190000
DTEND;TZID=UTC:20260319T210000
DTSTAMP:20260422T093413
CREATED:20250212T161640Z
LAST-MODIFIED:20260319T130810Z
UID:18000-1773946800-1773954000@treffpunkt-philosophie.de
SUMMARY:Nürnberger Wochen gegen Rassismus
DESCRIPTION:Motto: 100% Menschenwürde. Zusammen gegen Rassismus und Rechtsextremismus \n\n\n\n\n\n\n\n\n\n\n\n\n\nWir nehmen wieder Teil mit einem Workshop: \n\n\n\nPhilosophische Bildung als Mittel zur Überwindung von Rassismus und Separation \n\n\n\nPräsentiert wird das Modell einer umfassenden (natur)-philosphischen-humanistischen Bildung auf Basis der Weisheitslehren aus Ost und West. Diese ermöglicht ein von Toleranz geprägtes Weltverständnis und fördert das Bewusstsein für die Verbundenheit allen Lebens. Ergänzt wird die theoretische Ausbildung durch ein Spektrum von Übungen\, die zu einer gelebten Praxis führen\, die sich auch in den Herausforderungen des Alltags bewährt. Neue Akroplis entspricht damit als Schule der Philosophie den Zielen der UNESCO\, die philosophische Bildung als ein wirksames Mittel ansieht\, um Verständnis\, Dialog und Frieden zwischen Menschen und Kulturen zu fördern. Sie verfügt mittlerweile über fast 70 Jahre Erfahrung in über 50 Ländern der Welt. \n\n\n\nDer Vortrag skizziert die Stufen dieses philosophischen Ausbildungsweges zusammen mit Anwendungsbeispielen aus der Praxis. \n\n\n\n\n\nReferenten: \n\n\n\n\n\n\n\nMarijana Bosnar \n\n\n\nhat als Erzieherin und Pädagogin mit Kindern\, Jugendlichen und deren Eltern gearbeitet. Sie engagiert sich seit über 35 Jahren im Bereich der praktischen Philosophie und in der Erwachsenenbildung. Sie hält regelmäßig Kurse\, Vorträge und Workshops. Seit 2013 ist sie Leiterin von Treffpunkt-Philosophie Nürnberg. \n\n\n\nWalter Krejci ist Volks- und Betriebswirt und seit 30 Jahren im Bereich der praktischen Philosophie aktiv.Er setzte sich intensiv mit den Fragen und Antworten westlicher und östlicher Philosophien auseinander. Seit 20 Jahren ist er regelmäßig Vortragender und Kursleiter sowie Verfasser einer Reihe von philosophischen Artikeln in der Zeitschrift „Abenteuer Philosophie“. Das vergleichende Studium der theologischen Symboliken antiker Kulturen ist einer seiner Themenschwerpunkte. \n\n\n\n2007 gründete er eine Niederlassung von Treffpunkt Philosophie e.V. in Nürnberg und ist seither in deren Leitung engagiert. \n\n\n\n\n\n\n\n\n\n\nOffizielle Homepage der Stadt Nürnberg\n\n\n\n\n\n\n\n\nInstagram\n\n\n\nFacebook\n\n\n\nWhatsApp
URL:https://treffpunkt-philosophie.de/veranstaltungen/nuernberger-wochen-gegen-rassismus-2/
LOCATION:Nürnberg\, Königstraße 39\, Nürnberg\, Bayern\, 90402
ATTACH;FMTTYPE=image/jpeg:https://treffpunkt-philosophie.de/wp-content/uploads/2025/02/fittosize_1296_864_2a3bae9a78dbef4142af0b19cbd9c15d_stempellogo_wochen_gegen_rassismus_206-e1770559353396.jpg
END:VEVENT
BEGIN:VEVENT
DTSTART;TZID=UTC:20260326T190000
DTEND;TZID=UTC:20260326T202000
DTSTAMP:20260422T093413
CREATED:20260302T214049Z
LAST-MODIFIED:20260302T214239Z
UID:20369-1774551600-1774556400@treffpunkt-philosophie.de
SUMMARY:Das stoische Betriebssystem
DESCRIPTION:Mentale Stärke für eine komplexe Welt!\n\n\n\n\n\n\n\n\n\n\n\n\n\nFühlst du dich oft von äußeren Umständen getrieben\, statt innerlich gefestigt zu sein? Suchst du nach einem mentalen „Betriebssystem“\, das auch in stürmischen Zeiten stabil bleibt? \n\n\n\nDer Stoizismus ist mehr als nur antike Theorie. Er gehört zu den wirkungsvollsten Methoden\, um Resilienz\, emotionale Intelligenz und klare Entscheidungsfähigkeit zu entwickeln. In diesem Workshop tauchen wir nicht in staubige Geschichtsbücher ein – wir holen die kraftvollsten Werkzeuge der stoischen Philosophie direkt in deinen Alltag. \n\n\n\nDieser Workshop ist deine Einladung\, Philosophie nicht nur zu denken\, sondern zu leben. Was dich in diesem Workshop erwartet. \n\n\n\nWir konzentrieren uns auf die „Großen Drei“ der stoischen Praxis – zeitlose Prinzipien\, die heute relevanter sind denn je: \n\n\n\n1. Die Kunst der Unbesiegbarkeit (Dichotomie der Kontrolle) \n\n\n\nDie meisten Menschen verschwenden ihre Energie im Kampf gegen Dinge\, die sie nicht ändern können. Gemeinsam erarbeitest du\, wie du klar und radikal unterscheidest: Was liegt in meiner Macht – und was nicht? \n\n\n\nDein Nutzen: Sofortige Reduktion von Stress und Frustration. Du gewinnst deine Handlungsfähigkeit zurück und richtest deine Energie fokussiert auf das\, was du wirklich beeinflussen kannst. \n\n\n\n2. Radikaler Fokus durch Endlichkeit (Memento Mori) \n\n\n\nIn einer Welt voller Ablenkungen ist Zeit deine wertvollste Ressource. Statt Vergänglichkeit zu verdrängen\, nutzt du sie als kraftvollen Motivator. \n\n\n\nDein Nutzen: Du lernst\, Wichtiges von Unwichtigem zu unterscheiden. Diese Perspektive hilft dir\, Aufschieberitis zu überwinden\, mutige Entscheidungen zu treffen und deine Prioritäten neu zu ordnen. \n\n\n\n3. Hindernisse als Wegweiser (Amor Fati) \n\n\n\nDas Leben folgt selten exakt dem Plan. Die stoische Antwort darauf ist nicht bloße Akzeptanz\, sondern die bewusste Liebe zum Schicksal. Du trainierst\, Rückschläge nicht als Blockaden\, sondern als notwendiges Training für deinen Charakter zu verstehen. \n\n\n\nDein Nutzen: Wahre Resilienz. Du entwickelst eine innere Haltung\, die dich krisenfester macht und dir ermöglicht\, an Herausforderungen zu wachsen statt an ihnen zu zerbrechen. \n\n\n\nStarte die Arbeit an deinem wichtigsten Projekt: dir selbst. \n\n\n\nAblauf & Zeiten \n\n\n\n Workshop „Das stoische Betriebssystem“: \n\n\n\n🕖 19:00 – 20:20 Uhr \n\n\n\n Infoabend zum Kurs „Praktische Philosophie“: \n\n\n\n🕣 20:30 – 20:40 Uhr \n\n\n\nDer Infoabend bietet dir die Möglichkeit\, den weiterführenden Kurs Praktische Philosophie kennenzulernen\, Fragen zu stellen und zu prüfen\, ob der Kurs für dich der nächste sinnvolle Schritt ist \n\n\n\n\n\nReferent:Daniel Klug \n\n\n\nPraktischer Philosoph\, Kursleiter in Erlebnispädagogik\, Systemischer Berater.
URL:https://treffpunkt-philosophie.de/veranstaltungen/das-stoische-betriebssystem/
LOCATION:Nürnberg\, Königstraße 39\, Nürnberg\, Bayern\, 90402
CATEGORIES:Nürnberg
ATTACH;FMTTYPE=image/png:https://treffpunkt-philosophie.de/wp-content/uploads/2025/12/Stoic.png
ORGANIZER;CN="Treffpunkt Philosophie e.V. N%C3%BCrnberg":MAILTO:nuernberg@treffpunkt-philosophie.de
END:VEVENT
END:VCALENDAR