BEGIN:VCALENDAR
VERSION:2.0
PRODID:-//Treffpunkt Philosophie - ECPv6.15.20//NONSGML v1.0//EN
CALSCALE:GREGORIAN
METHOD:PUBLISH
X-ORIGINAL-URL:https://treffpunkt-philosophie.de
X-WR-CALDESC:Veranstaltungen für Treffpunkt Philosophie
REFRESH-INTERVAL;VALUE=DURATION:PT1H
X-Robots-Tag:noindex
X-PUBLISHED-TTL:PT1H
BEGIN:VTIMEZONE
TZID:UTC
BEGIN:STANDARD
TZOFFSETFROM:+0000
TZOFFSETTO:+0000
TZNAME:UTC
DTSTART:20250101T000000
END:STANDARD
END:VTIMEZONE
BEGIN:VEVENT
DTSTART;TZID=UTC:20260508T160000
DTEND;TZID=UTC:20260509T220000
DTSTAMP:20260424T170816
CREATED:20220728T082126Z
LAST-MODIFIED:20260410T161928Z
UID:12372-1778256000-1778364000@treffpunkt-philosophie.de
SUMMARY:Trempelmarkt
DESCRIPTION:WIR SIND DABEI – größter Innenstadtflohmarkt Deutschlands in der historischen Altstadt:Der Trempelmarkt findet in der Nürnberger Innenstadt auf öffentliche Flächen der Nürnberger Altstadt zwischen Altem Rathaus im Norden und Lorenzkirche im Süden\, zwischen Hefnersplatz im Westen und Spitalgasse im Osten statt. \n\n\n\n\n\n\n\n\n\n\n\nKleidung\, Bücher\, allerlei ! – Nachhaltig Einkaufen \n\n\n\nWir veranstalten einen Flohmarkt in unserer Schule der Philosophie.  \n\n\n\nKommt vorbei\, zum Stlöbern\, nachhaltigem Kauf\, interessante Gespräche oder nur so zum Gucken! \n\n\n\n\n\nMarktzeit: \n\n\n\nFreitag von 16 bis 24 UhrSamstag von 7 bis 20 Uhr
URL:https://treffpunkt-philosophie.de/veranstaltungen/flohmarkt/
LOCATION:Nürnberg\, Königstraße 39\, Nürnberg\, Bayern\, 90402
CATEGORIES:Nürnberg
ATTACH;FMTTYPE=image/jpeg:https://treffpunkt-philosophie.de/wp-content/uploads/2022/07/signal-2024-09-06-231722_002-e1770560466296.jpeg
ORGANIZER;CN="Treffpunkt Philosophie e.V. N%C3%BCrnberg":MAILTO:nuernberg@treffpunkt-philosophie.de
END:VEVENT
BEGIN:VEVENT
DTSTART;TZID=UTC:20260512T190000
DTEND;TZID=UTC:20260512T213000
DTSTAMP:20260424T170816
CREATED:20260419T132054Z
LAST-MODIFIED:20260422T104749Z
UID:20689-1778612400-1778621400@treffpunkt-philosophie.de
SUMMARY:"Sokrates - der Weg zum Glück"
DESCRIPTION:Andere waren geschäftiger oder scheinbar wichtiger. Er war stets Außenseiter und wurde schließlich sogar zum Tode verurteilt.  \n\n\n\nHeute hingegen ist Sokrates der wohl bekannteste Philosoph des Abendlandes und schon zu Lebzeiten war er der weiseste Mensch in Griechenland – und das obwohl er gar nichts wusste\, wie er selbst meinte. \n\n\n\nHeute halten wir uns noch immer für wichtig und sind geschäftig. Haben wir so viel Muße\, um den Ratschlägen eines Weisen zu lauschen? Suchen wir denn nicht alle den Weg zum Glück? \n\n\n\n\n\n\n\n\n\nReferentin: \n\n\n\nMarijana Bosnar \n\n\n\nErzieherin und Pädagogin  \n\n\n\nSeit über 35 Jahren im Bereich praktische Philosophie und Erwachsenenbildung tätig \n\n\n\nDurchführung von Kursen\, Vorträgen und Workshops \n\n\n\nSeit 2013 Leiterin von Treffpunkt Philosophie Nürnberg \n\n\n\n\n\n\n\nFacebook\n\nInstagram
URL:https://treffpunkt-philosophie.de/veranstaltungen/sokrates-der-weg-zum-glueck/
LOCATION:Nürnberg\, Königstraße 39\, Nürnberg\, Bayern\, 90402
CATEGORIES:Nürnberg
ATTACH;FMTTYPE=image/png:https://treffpunkt-philosophie.de/wp-content/uploads/2025/10/Kind-e1760988552329.png
ORGANIZER;CN="Treffpunkt Philosophie e.V. N%C3%BCrnberg":MAILTO:nuernberg@treffpunkt-philosophie.de
END:VEVENT
BEGIN:VEVENT
DTSTART;TZID=UTC:20260513T180000
DTEND;TZID=UTC:20260513T190000
DTSTAMP:20260424T170816
CREATED:20260410T132526Z
LAST-MODIFIED:20260424T075846Z
UID:20598-1778695200-1778698800@treffpunkt-philosophie.de
SUMMARY:Infoabend "Praktische Philosophie"
DESCRIPTION:Klar denken. Bewusst leben. Wirksam handeln. \n\n\n\nPraktische Philosophie – Klarheit und Haltung in einer komplexen Welt \n\n\n\nWir leben in einer Zeit voller Möglichkeiten – und gleichzeitig voller Unsicherheit.Viele spüren: Es reicht nicht mehr\, einfach weiterzumachen wie bisher. \n\n\n\nDer Kurs „Praktische Philosophie“ richtet sich an Menschen\, die bewusster leben\, klarer denken und verantwortungsvoll handeln wollen. \n\n\n\nHier geht es nicht um abstrakte Theorien\, sondern um konkrete Fragen: \n\n\n\n\nWie finde ich Orientierung in einer komplexen Welt?\n\n\n\nWas liegt wirklich in meiner Verantwortung – und was nicht?\n\n\n\nWie bleibe ich innerlich stabil\, auch wenn sich außen vieles verändert?\n\n\n\nWie kann ich sinnvoll wirken – im Kleinen wie im Großen?\n\n\n\n\nDu lernst\, philosophische Ansätze als Werkzeuge für deinen Alltag zu nutzen: \n\n\n\n\nfür mehr Klarheit im Denken\n\n\n\nfür bewusste Entscheidungen\n\n\n\nfür innere Stärke und Gelassenheit\n\n\n\nfür ein Leben mit Haltung und Richtung\n\n\n\n\nPraktische Philosophie bedeutet:nicht nur verstehen – sondern bewusst gestalten. \n\n\n\n\n\nFür Menschen\, die: \n\n\n\n\nsich selbst besser verstehen wollen\n\n\n\nOrientierung in einer komplexen Welt suchen\n\n\n\nund Verantwortung bewusst leben möchten\n\n\n\n\nSich selbst besser kennen und verstehen lernen: Was ist mir wirklich wichtig? Was ist der Mensch? Was ist die Seele? \n\n\n\nPhilosophie – nicht nur zum Nachdenken.Sondern zum Leben. \n\n\n\n\n\nAnmeldung erforderlich: \n\n\n\n\n\nWir freuen uns auf dich! \n\n\n\nInstagram\n\nFacebook\n\nWhatsApp\n\n\n\nBeispiele von unseren Aktionen zu Kultur\, Volontariat und Philosophie:
URL:https://treffpunkt-philosophie.de/veranstaltungen/infoabend-praktische-philosophie-3/
LOCATION:Nürnberg\, Königstraße 39\, Nürnberg\, Bayern\, 90402
CATEGORIES:Nürnberg
ATTACH;FMTTYPE=image/jpeg:https://treffpunkt-philosophie.de/wp-content/uploads/2025/02/unbenannt-6-2-scaled.jpg
ORGANIZER;CN="Treffpunkt Philosophie e.V. N%C3%BCrnberg":MAILTO:nuernberg@treffpunkt-philosophie.de
END:VEVENT
BEGIN:VEVENT
DTSTART;TZID=UTC:20260522T190000
DTEND;TZID=UTC:20260522T210000
DTSTAMP:20260424T170816
CREATED:20260422T110831Z
LAST-MODIFIED:20260422T181830Z
UID:20702-1779476400-1779483600@treffpunkt-philosophie.de
SUMMARY:Was ist der Mensch?
DESCRIPTION:Ein philosophischer Beitrag zu Menschenbild & Menschenwürde \n\n\n\n\n\n \n\n\n\n\n\n\n\n\n\n\n\n„Die Würde des Menschen ist unantastbar.“Doch wieso? \n\n\n\nDer „Ehrentag“ 2026\, ausgerufen von Bundespräsident Steinmeier\, feiert das Grundgesetz als Fundament zum Schutz des Einzelnen und des gedeihlichen Zusammenlebens aller. Höchstes Gut ist dabei die Würde des Menschen. Diese bemisst sich nach dem Bild\, das wir vom Menschen und der Welt haben. Dieses bestimmt unsere Ethik und unser Handeln. \n\n\n\nDer Vortrag beleuchtet traditionelle Vorstellungen der Kulturen aus Ost und West über den Menschen und seine Stellung im „Kosmos“. Sie können uns das Wesen des Menschen enträtseln und eine (natur-) philosophische Begründung für seine zu respektierende Würde liefern. \n\n\n\n\n\n\n\n\n\nReferent:   \n\n\n\nWalter Krejci \n\n\n\nSeit über 30 Jahren in der praktischen Philosophie tätig \n\n\n\nVolks- und Betriebswirt\, Vortragender\, Kursleiter und Autor\, seit 2007 Gründer von Treffpunkt Philosophie Nürnberg und seitdem in deren Leitung tätig \n\n\n\n\n\n\n\n\n\n\n\n\n\n \n\n\n\n\n\nFacebook\n\nInstagram
URL:https://treffpunkt-philosophie.de/veranstaltungen/was-ist-der-mensch/
LOCATION:Nürnberg\, Königstraße 39\, Nürnberg\, Bayern\, 90402
CATEGORIES:Nürnberg
ATTACH;FMTTYPE=image/png:https://treffpunkt-philosophie.de/wp-content/uploads/2026/04/PNG-image.png
ORGANIZER;CN="Treffpunkt Philosophie e.V. N%C3%BCrnberg":MAILTO:nuernberg@treffpunkt-philosophie.de
END:VEVENT
BEGIN:VEVENT
DTSTART;TZID=UTC:20260528T180000
DTEND;TZID=UTC:20260528T193000
DTSTAMP:20260424T170816
CREATED:20260419T123034Z
LAST-MODIFIED:20260419T123037Z
UID:20687-1779991200-1779996600@treffpunkt-philosophie.de
SUMMARY:„Gedankenflug“ Philosophischer Lesetreff
DESCRIPTION:Lesen öffnet die Fenster der Seele.Ein offener Leseclub für alle\, die mit klarem Kopf\, offenem Herzen und guten Gesprächen durchs Leben gehen wollen. \n\n\n\nWorum geht’s? \n\n\n\nWir lesen gemeinsam Bücher\, die große Fragen stellen – über Gesellschaft\, Sinn\, Beziehungen und ein gutes Leben. Statt Social-Media-Schnellkost gibt es Tiefgang\, Austausch auf Augenhöhe und praktische Impulse für den Alltag. \n\n\n\nSo läuft ein Abend ab (ca. 90–120 Min.) \n\n\n\n\nKurzimpuls zum Buch (verständlich & alltagsnah)\n\n\n\nAustausch in Kleingruppen mit Leitfragen\n\n\n\nRunde im Plenum: Einsichten & Take-aways\n\n\n\nAnregungen für den philosophischen Alltag\n\n\n\n\nFür wen ist das? \n\n\n\nFür Neugierige\, Sinnsuchende und Pragmatiker. Keine Vorkenntnisse nötig – nur Lust aufs Lesen und schöne Gespräche. \n\n\n\nWarum mitmachen? \n\n\n\n\nVorstellungskraft stärken – eine der authentischsten Fähigkeiten des Menschen\n\n\n\nEmpathie vertiefen – sich in andere Menschen und Perspektiven hineinversetzen\n\n\n\nKonzentration trainieren – wie im Gespräch mit einer guten Freundin\n\n\n\nNeue Blickwinkel entdecken – und eigene Überzeugungen prüfen\n\n\n\nIdeen lebendig machen – gemeinsam denken\, lachen\, wachsen\n\n\n\n\nUnsere nächste Lektüre \n\n\n\nDas Gastmahl von Platon \n\n\n\nAnmeldungen erwünscht: nuernberg@treffpunkt-philosophie.de \n\n\n\n\n\n\n\n\n\n\n\nInstagram\n\nFacebook
URL:https://treffpunkt-philosophie.de/veranstaltungen/gedankenflug-philosophischer-lesetreff-2/
LOCATION:Nürnberg\, Königstraße 39\, Nürnberg\, Bayern\, 90402
CATEGORIES:Nürnberg
ATTACH;FMTTYPE=image/png:https://treffpunkt-philosophie.de/wp-content/uploads/2026/03/bBild-fuer-Website-Lese-Club-Nuernberg-Quadratisch-copy.png
ORGANIZER;CN="Treffpunkt Philosophie e.V. N%C3%BCrnberg":MAILTO:nuernberg@treffpunkt-philosophie.de
END:VEVENT
END:VCALENDAR