BEGIN:VCALENDAR
VERSION:2.0
PRODID:-//Treffpunkt Philosophie - ECPv6.15.20//NONSGML v1.0//EN
CALSCALE:GREGORIAN
METHOD:PUBLISH
X-ORIGINAL-URL:https://treffpunkt-philosophie.de
X-WR-CALDESC:Veranstaltungen für Treffpunkt Philosophie
REFRESH-INTERVAL;VALUE=DURATION:PT1H
X-Robots-Tag:noindex
X-PUBLISHED-TTL:PT1H
BEGIN:VTIMEZONE
TZID:UTC
BEGIN:STANDARD
TZOFFSETFROM:+0000
TZOFFSETTO:+0000
TZNAME:UTC
DTSTART:20250101T000000
END:STANDARD
END:VTIMEZONE
BEGIN:VEVENT
DTSTART;TZID=UTC:20260425T110000
DTEND;TZID=UTC:20260425T150000
DTSTAMP:20260424T111947
CREATED:20250401T212824Z
LAST-MODIFIED:20260402T180620Z
UID:18223-1777114800-1777129200@treffpunkt-philosophie.de
SUMMARY:"Kehrd Wärd" Aktion auf der Wöhrder Wiese - EarthDay 2026
DESCRIPTION:Der Earth Day 2026 gibt das Leitmotiv für vielfältige Aktionen rund um das breite Spektrum des Umwelt- und Klimaschutz für jeden\, um die persönliche Umwelt-Agenda anzustoßen und dauerhaft umzusetzen. \n\n\n\nWIR SIND DABEI und werden im Rahmen einer Ökologischen Aktion für Bewusstsein für die Erhaltung des Naturraums (auch in der Stadt) eintreten. \n\n\n\n„Global denken\, lokal handeln – Mach mit bei der Kehrd Wärd Aktion auf der Wöhrder Wiese \n\n\n\nGemeinsam für eine lebenswerte Zukunft  \n\n\n\nVeränderung beginnt nicht irgendwo und irgendwann. \n\n\n\nSie beginnt jetzt. Und sie beginnt bei uns. Übernehmen wir Verantwortung für unsere Umwelt und unser Umfeld und legen konkret Hand an beim Kehrd Wärd auf der Wöhrder Wiese.“ \n\n\n\nTreffpunkt ist in der Königstraße 39
URL:https://treffpunkt-philosophie.de/veranstaltungen/earthday-2025-du-machst-den-unterschied/
LOCATION:Nürnberg\, Königstraße 39\, Nürnberg\, Bayern\, 90402
CATEGORIES:Nürnberg
ATTACH;FMTTYPE=image/png:https://treffpunkt-philosophie.de/wp-content/uploads/2025/04/Earthday-NBG-2026.png
ORGANIZER;CN="Treffpunkt Philosophie e.V. N%C3%BCrnberg":MAILTO:nuernberg@treffpunkt-philosophie.de
END:VEVENT
BEGIN:VEVENT
DTSTART;TZID=UTC:20260430T190000
DTEND;TZID=UTC:20260430T210000
DTSTAMP:20260424T111947
CREATED:20260410T142030Z
LAST-MODIFIED:20260410T161818Z
UID:20600-1777575600-1777582800@treffpunkt-philosophie.de
SUMMARY:Elegante Einfachheit – Die Kunst\, gut zu leben
DESCRIPTION:Workshop zum Internationalen Tag der Mutter Erde: \n\n\n\n\n\n\n\n\n\n\n\n Mehr Möglichkeiten als je zuvor – und trotzdem oft zu wenig Zeit\, zu wenig Klarheit\, zu wenig Sinn? Wir leben im Überfluss: an Dingen\, Informationen\, Optionen\, Erwartungen. Wir optimieren\, vergleichen\, entscheiden – und verlieren dabei leicht den Blick für das Wesentliche. \n\n\n\nWas heißt es heute\, gut zu leben? \n\n\n\nEinfachheit ist mehr als Verzicht. \n\n\n\nSie ist eine bewusste Entscheidung: \n\n\n\n– für Klarheit statt Zerstreuung\, \n\n\n\n– für Tiefe statt Dauerbeschäftigung\, \n\n\n\n– für Sein statt ständiges Haben-Wollen. \n\n\n\nInspiriert von philosophischen Traditionen aus Ost und West – von antiker Lebenskunst (wie z.B. den Stoikern) bis zu achtsamer Gegenwärtigkeit – erforschen wir: \n\n\n\n– Was in deinem Leben wirklich wesentlich ist \n\n\n\n– Welche Formen von „Überfluss“ dich innerlich binden \n\n\n\n– Wie du stimmige Prioritäten setzt \n\n\n\n– und wie ein Leben im Dreiklang von Natur\, Mensch und Gemeinschaft konkret gestaltet werden kann \n\n\n\nDieser Workshop verbindet Reflexion mit praktischen Übungen\, Austausch und klaren Impulsen für deinen Alltag. \n\n\n\n\n\nReferent: \n\n\n\n\n\n\n\nWinfried Baier \n\n\n\nIngenieur und praktischer Philosoph mit Interesse an Natur und Ökologie \n\n\n\n\n\n\n\n\n\n\n\n\n\nFacebook\n\nInstagram
URL:https://treffpunkt-philosophie.de/veranstaltungen/elegante-einfachheit-die-kunst-gut-zu-leben/
LOCATION:Nürnberg\, Königstraße 39\, Nürnberg\, Bayern\, 90402
CATEGORIES:Nürnberg
ATTACH;FMTTYPE=image/png:https://treffpunkt-philosophie.de/wp-content/uploads/2026/04/Earthday-NBG-2026-3.png
ORGANIZER;CN="Treffpunkt Philosophie e.V. N%C3%BCrnberg":MAILTO:nuernberg@treffpunkt-philosophie.de
END:VEVENT
END:VCALENDAR