BEGIN:VCALENDAR
VERSION:2.0
PRODID:-//Treffpunkt Philosophie - ECPv6.15.20//NONSGML v1.0//EN
CALSCALE:GREGORIAN
METHOD:PUBLISH
X-WR-CALNAME:Treffpunkt Philosophie
X-ORIGINAL-URL:https://treffpunkt-philosophie.de
X-WR-CALDESC:Veranstaltungen für Treffpunkt Philosophie
REFRESH-INTERVAL;VALUE=DURATION:PT1H
X-Robots-Tag:noindex
X-PUBLISHED-TTL:PT1H
BEGIN:VTIMEZONE
TZID:UTC
BEGIN:STANDARD
TZOFFSETFROM:+0000
TZOFFSETTO:+0000
TZNAME:UTC
DTSTART:20240101T000000
END:STANDARD
END:VTIMEZONE
BEGIN:VEVENT
DTSTART;TZID=UTC:20251025T210000
DTEND;TZID=UTC:20251025T220000
DTSTAMP:20260422T163345
CREATED:20250913T153455Z
LAST-MODIFIED:20251020T193605Z
UID:18718-1761426000-1761429600@treffpunkt-philosophie.de
SUMMARY:Nach oben zum Licht! - von gotischen Kathedralen und genialen Erfindern
DESCRIPTION:Lange Nacht der Wissenschaft 2025 – „Licht schaffen!“ \n\n\n\n\n\n\n\n\n\n\n\nWichtige Meilensteine in der Erforschung unserer Welt verdanken wir sog. „zündenden“ Ideen oder „Ein-Fällen“ (z.B. Nikola Tesla u.v.m.). Geschwindigkeit und Richtung des wissenschaftlichen Fortschritts sind also neben Fleiß auch eine Frage des „Bewusst-Seins“. \n\n\n\nDie Vortragsreihe „Licht schaffen“ präsentiert aus philosophischer Sicht verschiedene Methoden und Aspekte auf unserem Weg zu mehr Erkenntnis. \n\n\n\nIn diesem Vortrag geht es um gotische Kathedralen und geniale Erfinder. \n\n\n\nLicht bedeutet Leben. Immer war es auch ein Symbol des Göttlichen\, das Wissenschaftler wie Mystiker inspirierte. Was also steckt „hinter“ dem Licht? \n\n\n\n\n\nVortragende: \n\n\n\n\n\n\n\nMarijana Bosnar \n\n\n\nhat als Erzieherin und Pädagogin mit Kindern\, Jugendlichen und deren Eltern gearbeitet.Sie engagiert sich seit über 35 Jahren im Bereich der praktischen Philosophie und in der Erwachsenenbildung. Sie hält regelmäßig Kurse\, Vorträge und Workshops. \n\n\n\nSeit 2013 ist sie Leiterin der Neuen Akropolis Treffpunkt-Philosophie Nürnberg. \n\n\n\n\n\n\n\n\n\n \n\n\n\nFacebook\n\nInstagram
URL:https://treffpunkt-philosophie.de/veranstaltungen/nach-oben-zum-licht-von-gotischen-kathedralen-und-genialen-erfindern/
LOCATION:Nürnberg\, Königstraße 39\, Nürnberg\, Bayern\, 90402
CATEGORIES:Nürnberg
ATTACH;FMTTYPE=image/jpeg:https://treffpunkt-philosophie.de/wp-content/uploads/2025/07/Tesla-bulb-Wikimedia-Commons.jpg
ORGANIZER;CN="Treffpunkt Philosophie e.V. N%C3%BCrnberg":MAILTO:nuernberg@treffpunkt-philosophie.de
END:VEVENT
BEGIN:VEVENT
DTSTART;TZID=UTC:20251025T223000
DTEND;TZID=UTC:20251025T233000
DTSTAMP:20260422T163345
CREATED:20250913T153632Z
LAST-MODIFIED:20251008T143131Z
UID:18598-1761431400-1761435000@treffpunkt-philosophie.de
SUMMARY:Die Wichtigkeit von Philosophie in der Wissenschaft
DESCRIPTION:Lange Nacht der Wissenschaft 2025 – „Licht schaffen!“ \n\n\n\n\n\n\n\n\n\n\n\nWichtige Meilensteine in der Erforschung unserer Welt verdanken wir sog. „zündenden“ Ideen oder „Ein-Fällen“ (z.B. Nikola Tesla u.v.m.). Geschwindigkeit und Richtung des wissenschaftlichen Fortschritts sind also neben Fleiß auch eine Frage des „Bewusst-Seins“. \n\n\n\nDie Vortragsreihe „Licht schaffen“ präsentiert aus philosophischer Sicht verschiedene Methoden und Aspekte auf unserem Weg zu mehr Erkenntnis. \n\n\n\nIn diesem Vortrag wird „Die Wichtigkeit von Philosophie in der Wissenschaft“ erörtert. \n\n\n\nHeute schreitet die Wissenschaft in nie gekanntem Tempo voran. Selten hält man inne und fragt nach der Richtung und den Auswirkungen für den Menschen und die Welt. \n\n\n\nHier kann und muss die praktische Philosophie eine grundlegende Rolle einnehmen\, um ein Leuchtturm inmitten einer Überfülle an Informationen\, Widersprüchen und Meinungen zu sein. \n\n\n\n\n\nVortragender: \n\n\n\nMiguel Campollo  \n\n\n\n Dr. Miguel Campollo ist ein guatemaltekischer Allgemeinmediziner mit über zehn Jahren Erfahrung in der Primärversorgung und sieben Jahren als Universitätsdozent in verschiedenen medizinischen Disziplinen (Anatomie\, Biologie\, Zytohistologie\, alternative Medizin\, medizinische Anthropologie). \n\n\n\n\n\n\n\n\n\nFacebook\n\nInstagram
URL:https://treffpunkt-philosophie.de/veranstaltungen/die-wichtigkeit-von-philosophie-in-der-wissenschaft/
LOCATION:Nürnberg\, Königstraße 39\, Nürnberg\, Bayern\, 90402
CATEGORIES:Nürnberg
ATTACH;FMTTYPE=image/jpeg:https://treffpunkt-philosophie.de/wp-content/uploads/2025/06/20250523_183724-e1760988761385.jpg
ORGANIZER;CN="Treffpunkt Philosophie e.V. N%C3%BCrnberg":MAILTO:nuernberg@treffpunkt-philosophie.de
END:VEVENT
END:VCALENDAR