BEGIN:VCALENDAR
VERSION:2.0
PRODID:-//Treffpunkt Philosophie - ECPv6.15.20//NONSGML v1.0//EN
CALSCALE:GREGORIAN
METHOD:PUBLISH
X-ORIGINAL-URL:https://treffpunkt-philosophie.de
X-WR-CALDESC:Veranstaltungen für Treffpunkt Philosophie
REFRESH-INTERVAL;VALUE=DURATION:PT1H
X-Robots-Tag:noindex
X-PUBLISHED-TTL:PT1H
BEGIN:VTIMEZONE
TZID:UTC
BEGIN:STANDARD
TZOFFSETFROM:+0000
TZOFFSETTO:+0000
TZNAME:UTC
DTSTART:20240101T000000
END:STANDARD
END:VTIMEZONE
BEGIN:VEVENT
DTSTART;TZID=UTC:20250916T190000
DTEND;TZID=UTC:20250916T210000
DTSTAMP:20260424T155620
CREATED:20250708T191100Z
LAST-MODIFIED:20250911T220549Z
UID:18657-1758049200-1758056400@treffpunkt-philosophie.de
SUMMARY:FESTIVAL GUTES LEBEN LEIPZIG: Ist die Erde ein Lebewesen?
DESCRIPTION:Wie sich unser mechanistisches Weltbild zu einer systemischen Sichtweise wandelt. \n\n\n\n\n\n\n\n\n\n\n\n\n\nInhalt des Workshops: \n\n\n\nDie Erde funktioniert wie ein Lebewesen – aber ist sie auch eines? Traditionelle und indigene Kulturen teilen diese Überzeugung. Auch der Wissenschaftler Stephan Harding\, Gefährte des Begründers der Gaia-Theorie James Lovelock\, sieht den einzigen Ausweg aus der ökologischen Krise darin\, dass wir die Erde und alle Lebewesen wieder als lebendig und beseelt erleben.In einer von Technik und Wirtschaft dominierten Welt wurde die Natur lange als Feind angesehen\, als unkontrolliertes Chaos\, welches gezähmt werden müsse; Artensterben und Klimaveränderungen ungeahnten Ausmaßes sind die Folgen.Eine Philosophie der Ganzheit zeigt sich in der aufkommenden systemischen Weltsicht\, in der Verbundenheit\, Vernetzung und Selbstorganisation eine neue lebenswichtige Relevanz erfahren. \n\n\n\n\n\nReferent: \n\n\n\nMartin Oßberger hat als Wissenschaftler in vielen Bereichen der Forschung und Entwicklung gearbeitet; in der pharmazeutischen Industrie\, der Hochschule\, in Gymnasien und non-profit Unternehmen. Seit 25 Jahren engagiert er sich ehrenamtlich\, anfangs bei der AIDS-Hilfe und Obdachlosenunterstützung. Dann begeisterte er sich für die praktische Philosophie\, die er beim gemeinnützigen Verein Treffpunkt Philosophie kennen lernte. Dort gibt er Kurse und bietet Seminare und erlebnispädagogische Veranstaltungen an. Vor fünf Jahren zog es ihn von seinem Geburtsort München nach Leipzig\, wo er den Vereinssitz von Treffpunkt Philosophie leitet. \n\n\n\n\n\n\n\n\n\n\n\nWeitere Informationen \n\n\n\nPREISE: Eintritt frei – Spenden erbeten \n\n\n\nWir bieten den Workshop im Rahmen des Festivals „Gutes Leben Leipzig“ an. \n\n\n\n\nRESERVIEREN\n\n\n\n\nWeitere EVENTS\n\n\n\nUnser Kurs Praktische Philosophie könnte dich auch interessieren: \n\n\n\n\nEine Reise durch die verschiedenen Philosophien und Weisheitslehren aus Ost und West an 19 Abenden\, mit philosophischen Gesprächen\, praktischen Übungen zur philosophischen Lebenskunst für den Alltag und Reflexion über die Lage der Welt & wie wir sie gemeinsam zum Besseren verändern können. \n\n\n\nAre you up for the challenge? \n\n\n\n\nMehr Infos\n\n\n\n\n\n \n\n\n\nInstagram\n\nFacebook\n\nWhatsApp
URL:https://treffpunkt-philosophie.de/veranstaltungen/ist-die-erde-ein-lebewesen/
LOCATION:Leipzig\, Käthe-Kollwitz-Str. 113\, Leipzig\, 04109
CATEGORIES:Leipzig
ATTACH;FMTTYPE=image/webp:https://treffpunkt-philosophie.de/wp-content/uploads/2023/07/erde.webp
END:VEVENT
BEGIN:VEVENT
DTSTART;TZID=UTC:20250917T180000
DTEND;TZID=UTC:20250917T190000
DTSTAMP:20260424T155620
CREATED:20250914T112236Z
LAST-MODIFIED:20250914T112939Z
UID:19095-1758132000-1758135600@treffpunkt-philosophie.de
SUMMARY:Philosophie lebt! Infostunde zum Kurs „Praktische Philosophie“
DESCRIPTION:Kostenlose Infostunde zum Kurs „Praktische Philosophie“• Philosophischer Input• Infos zum Kurs\, der am Di.\, 25.11.25 beginnt \n\n\n\nErlebe Philosophie einfach und lebensnah! Erfahre an diesem Abend mehr über die Kursthemen\, sowie Näheres zum Kursablauf und einen ersten Input zum Thema „Was ist der Mensch?“ \n\n\n\nBeginne das Abenteuer „Praktische Philosophie“: Eine Reise durch die verschiedenen Philosophien und Weisheitslehren aus Ost und West. Mit philosophischen Gesprächen\, praktischen Übungen zur philosophischen Lebenskunst für den Alltag. Reflexion über die Lage der Welt und wie wir sie gemeinsam zum Besseren verändern können. \n\n\n\nAre you up for the challenge? \n\n\n\n\n\nInhalt des Kurses: \n\n\n\n\nWer bin ich? – Geist und Materie im Menschen\n\n\n\nWas ist der Sinn des Lebens? – Philosophie der Geschichte\n\n\n\nWie lebe ich gerecht? – Platon und sein Höhlengleichnis\n\n\n\nGibt es ein Leben nach dem Tod? – Spiritualität im alten Ägypten\n\n\n\nWarum gibt es Leid? – Buddhismus & der Weg der Goldenen Mitte\n\n\n\nWie können wir aktiv die Welt gestalten? – Gelebter Idealismus im Alltag\n\n\n\nWie erreiche ich Mut\, Gelassenheit & innere Freiheit? – „Carpe Diem“ in Rom\n\n\n\n\n\n\nFür wen ist der Kurs? \n\n\n\nBesondere Vorkenntnisse oder Vorbereitung sind nicht nötig. \n\n\n\nWeitere Informationen zur Infostunde: \n\n\n\nPREISE: kostenlos \n\n\n\n \n\n\n\n\n\nINTERESSIERT?Besuche unsere kostenlose Infostunde: \n\n\n\n\n\n\n💌 Jetzt Platz sichern\n\n\n\n\n\n\n\n💬Noch Fragen offen?\n\n\n\n\n\n\n \n\n\n\nInstagram\n\nFacebook
URL:https://treffpunkt-philosophie.de/veranstaltungen/philosophie-lebt-infostunde-zum-kurs-praktische-philosophie-23/
LOCATION:Stuttgart\, Theodor-Heuss-Str. 16\, Stuttgart\, 70174
CATEGORIES:Stuttgart
ATTACH;FMTTYPE=image/png:https://treffpunkt-philosophie.de/wp-content/uploads/2024/09/LPZ_Flyer_Ausbildungskurs_2023-98-×-98-mm-2.png
END:VEVENT
BEGIN:VEVENT
DTSTART;TZID=UTC:20250923T180000
DTEND;TZID=UTC:20250923T190000
DTSTAMP:20260424T155620
CREATED:20250914T115252Z
LAST-MODIFIED:20250914T115420Z
UID:19103-1758650400-1758654000@treffpunkt-philosophie.de
SUMMARY:Philosophie lebt! Infostunde zum Kurs „Praktische Philosophie“
DESCRIPTION:Kostenlose Infostunde zum Kurs „Praktische Philosophie“• Philosophischer Input• Infos zum Kurs\, der am Di.\, 25.11.25 beginnt \n\n\n\nErlebe Philosophie einfach und lebensnah! Erfahre an diesem Abend mehr über die Kursthemen\, sowie Näheres zum Kursablauf und einen ersten Input zum Thema „Was ist der Mensch?“ \n\n\n\nBeginne das Abenteuer „Praktische Philosophie“: Eine Reise durch die verschiedenen Philosophien und Weisheitslehren aus Ost und West. Mit philosophischen Gesprächen\, praktischen Übungen zur philosophischen Lebenskunst für den Alltag. Reflexion über die Lage der Welt und wie wir sie gemeinsam zum Besseren verändern können. \n\n\n\nAre you up for the challenge? \n\n\n\n\n\nInhalt des Kurses: \n\n\n\n\nWer bin ich? – Geist und Materie im Menschen\n\n\n\nWas ist der Sinn des Lebens? – Philosophie der Geschichte\n\n\n\nWie lebe ich gerecht? – Platon und sein Höhlengleichnis\n\n\n\nGibt es ein Leben nach dem Tod? – Spiritualität im alten Ägypten\n\n\n\nWarum gibt es Leid? – Buddhismus & der Weg der Goldenen Mitte\n\n\n\nWie können wir aktiv die Welt gestalten? – Gelebter Idealismus im Alltag\n\n\n\nWie erreiche ich Mut\, Gelassenheit & innere Freiheit? – „Carpe Diem“ in Rom\n\n\n\n\n\n\nFür wen ist der Kurs? \n\n\n\nBesondere Vorkenntnisse oder Vorbereitung sind nicht nötig. \n\n\n\nWeitere Informationen zur Infostunde: \n\n\n\nPREISE: kostenlos \n\n\n\n \n\n\n\n\n\nINTERESSIERT?Besuche unsere kostenlose Infostunde: \n\n\n\n\n\n\n💌 Jetzt Platz sichern\n\n\n\n\n\n\n\n💬Noch Fragen offen?\n\n\n\n\n\n\n \n\n\n\n\n\n\n\nInstagram\n\nFacebook
URL:https://treffpunkt-philosophie.de/veranstaltungen/philosophie-lebt-infostunde-zum-kurs-praktische-philosophie-24/
LOCATION:Stuttgart\, Theodor-Heuss-Str. 16\, Stuttgart\, 70174
CATEGORIES:Stuttgart
ATTACH;FMTTYPE=image/jpeg:https://treffpunkt-philosophie.de/wp-content/uploads/2023/02/EK-Aegypterin.jpg
END:VEVENT
END:VCALENDAR