BEGIN:VCALENDAR
VERSION:2.0
PRODID:-//Treffpunkt Philosophie - ECPv6.15.20//NONSGML v1.0//EN
CALSCALE:GREGORIAN
METHOD:PUBLISH
X-WR-CALNAME:Treffpunkt Philosophie
X-ORIGINAL-URL:https://treffpunkt-philosophie.de
X-WR-CALDESC:Veranstaltungen für Treffpunkt Philosophie
REFRESH-INTERVAL;VALUE=DURATION:PT1H
X-Robots-Tag:noindex
X-PUBLISHED-TTL:PT1H
BEGIN:VTIMEZONE
TZID:UTC
BEGIN:STANDARD
TZOFFSETFROM:+0000
TZOFFSETTO:+0000
TZNAME:UTC
DTSTART:20240101T000000
END:STANDARD
END:VTIMEZONE
BEGIN:VEVENT
DTSTART;TZID=UTC:20251015T180000
DTEND;TZID=UTC:20251015T190000
DTSTAMP:20260422T113441
CREATED:20250914T120016Z
LAST-MODIFIED:20250929T161224Z
UID:19107-1760551200-1760554800@treffpunkt-philosophie.de
SUMMARY:Philosophie lebt! Infostunde zum Kurs „Praktische Philosophie“
DESCRIPTION:Kostenlose Infostunde zum Kurs „Praktische Philosophie“• Philosophischer Input• Infos zum Kurs\, der am Di.\, 18.11.25 beginnt \n\n\n\nErlebe Philosophie einfach und lebensnah! Erfahre an diesem Abend mehr über die Kursthemen\, sowie Näheres zum Kursablauf und einen ersten Input zum Thema „Was ist der Mensch?“ \n\n\n\nBeginne das Abenteuer „Praktische Philosophie“: Eine Reise durch die verschiedenen Philosophien und Weisheitslehren aus Ost und West. Mit philosophischen Gesprächen\, praktischen Übungen zur philosophischen Lebenskunst für den Alltag. Reflexion über die Lage der Welt und wie wir sie gemeinsam zum Besseren verändern können. \n\n\n\nAre you up for the challenge? \n\n\n\n\n\nInhalt des Kurses: \n\n\n\n\nWer bin ich? – Geist und Materie im Menschen\n\n\n\nWas ist der Sinn des Lebens? – Philosophie der Geschichte\n\n\n\nWie lebe ich gerecht? – Platon und sein Höhlengleichnis\n\n\n\nGibt es ein Leben nach dem Tod? – Spiritualität im alten Ägypten\n\n\n\nWarum gibt es Leid? – Buddhismus & der Weg der Goldenen Mitte\n\n\n\nWie können wir aktiv die Welt gestalten? – Gelebter Idealismus im Alltag\n\n\n\nWie erreiche ich Mut\, Gelassenheit & innere Freiheit? – „Carpe Diem“ in Rom\n\n\n\n\n\n\nFür wen ist der Kurs? \n\n\n\nBesondere Vorkenntnisse oder Vorbereitung sind nicht nötig. \n\n\n\nWeitere Informationen zur Infostunde: \n\n\n\nPREISE: kostenlos \n\n\n\n\n\nINTERESSIERT?Besuche unsere kostenlose Infostunde: \n\n\n\n\n\n\n💌 Jetzt Platz sichern\n\n\n\n\n\n\n\n💬Noch Fragen offen?\n\n\n\n\n\n\n \n\n\n\n\n\n\n\nInstagram\n\nFacebook
URL:https://treffpunkt-philosophie.de/veranstaltungen/philosophie-lebt-infostunde-zum-kurs-praktische-philosophie-25/
LOCATION:Stuttgart\, Theodor-Heuss-Str. 16\, Stuttgart\, 70174
CATEGORIES:Stuttgart
ATTACH;FMTTYPE=image/png:https://treffpunkt-philosophie.de/wp-content/uploads/2024/09/LPZ_Flyer_Ausbildungskurs_2023-98-×-98-mm-2.png
END:VEVENT
BEGIN:VEVENT
DTSTART;TZID=UTC:20251023T180000
DTEND;TZID=UTC:20251023T203000
DTSTAMP:20260422T113441
CREATED:20251006T092800Z
LAST-MODIFIED:20251016T164045Z
UID:2573-1761242400-1761251400@treffpunkt-philosophie.de
SUMMARY:Infostunde zum Kurs „Praktische Philosophie“ in Nürnberg
DESCRIPTION:Beginne das Abenteuer „Praktische Philosophie“ \nHast du vielleicht Fragen wie:– Wer bin ich?– Wozu lebe ich?– Was ist wirklich wichtig im Leben?– Wie kann ich mein Leben besser gestalten?– Was ist Glück?– Was ist Gerechtigkeit?– Was kann ich für eine bessere Welt tun?– Wie gehe ich mit den Herausforderungen des Lebens um?– Wie entfalte ich meine Fähigkeiten? \nWeisheitslehren aus 5000 Jahren geben uns Antworten auf diese und weitere Fragen. \nDer Kurs „Praktische Philosophie“ vermittelt die Anwendung der philosophischen Lehren im Alltag durch Übungen und Volontariat. \nDie praktischen Übungen helfen dir z.B.:– die Gedanken zu ordnen– mit den Emotionen umzugehen– trotz Stress Ruhe zu bewahren– Prioritäten zu setzen und Entscheidungen zu fällen– selbstbewusst und klar zu kommunizieren \nDie Volunteer-Tätigkeiten helfen dir\, deine Möglichkeiten aber auch deine Grenzen kennenzulernen und auch erweitern. \nAußerdem lernst du\, die großen Zusammenhänge der Natur\, die Beweggründe der Menschen sowie den Sinn der Geschichte kennen. \n„Sei Du selbst die Veränderung\, die Du Dir wünschst für diese Welt.“ (Mahatma Gandhi) \nNeugierig? Dann sei dabei! \nWerde ein Philosoph! Stelle Fragen\, forsche und wende das Gelernte im Leben an! \nKursdauer:   20 Abende à 2 Stunden pro Woche \nBeginn des Kurses „Praktische Philosophie“ mit kostenloser Schnupperstunde: am Di.\, 30.10. 19:00 Uhr \nKursbeitrag: € 290 (ermäßigt € 150\,- für Schüler und Studenten bis 30 Jahre) inkl. Skripten\, Übungen\, Volunteer-Angebote und weitere Aktivitäten.
URL:https://treffpunkt-philosophie.de/veranstaltungen/kurs-praktische-philosophie-in-nuernberg-2/
LOCATION:Nürnberg\, Königstraße 39\, Nürnberg\, Bayern\, 90402
CATEGORIES:Nürnberg
ATTACH;FMTTYPE=image/png:https://treffpunkt-philosophie.de/wp-content/uploads/2025/02/Kein-Titel-Facebook-Video.png
ORGANIZER;CN="Treffpunkt Philosophie e.V. N%C3%BCrnberg":MAILTO:nuernberg@treffpunkt-philosophie.de
END:VEVENT
BEGIN:VEVENT
DTSTART;TZID=UTC:20251025T180000
DTEND;TZID=UTC:20251025T190000
DTSTAMP:20260422T113441
CREATED:20250913T153727Z
LAST-MODIFIED:20251020T161433Z
UID:18603-1761415200-1761418800@treffpunkt-philosophie.de
SUMMARY:Resonanz und Harmonie - was wir von Pythagoras noch lernen können
DESCRIPTION:Lange Nacht der Wissenschaft 2025 – „Licht schaffen!“ \n\n\n\n\n\n\n\n\n\n\n\nWichtige Meilensteine in der Erforschung unserer Welt verdanken wir sog. „zündenden“ Ideen oder „Ein-Fällen“ (z.B. Nikola Tesla u.v.m.). Geschwindigkeit und Richtung des wissenschaftlichen Fortschritts sind also neben Fleiß auch eine Frage des „Bewusst-Seins“. \n\n\n\nDie Vortragsreihe „Licht schaffen“ präsentiert aus philosophischer Sicht verschiedene Methoden und Aspekte auf unserem Weg zu mehr Erkenntnis.  \n\n\n\nIn diesem Vortrag wird genauer erläutert\, was wir von Pythagoras noch lernen können. \n\n\n\nResonanz und Harmonie waren stets ein Schlüssel zum Kosmos und zum Menschen. Philosophischer Streifzug von Pythagoras und Platon bis Hartmut Rosa. Mit praktischen Übungen. \n\n\n\n\n\nVortragende:  \n\n\n\n\n\n\n\nSara Täumer \n\n\n\nstudierte unter anderem Philosophie und Musik in Würzburg. Im Treffpunkt Philosophie ist sie seit einigen Jahren als Lehrerin\, Vortragende und Workshopleiterin aktiv. \n\n\n\n\n\n\n\n\n\nFacebook\n\nInstagram
URL:https://treffpunkt-philosophie.de/veranstaltungen/was-wir-von-pythagoras-lernen-koennen/
LOCATION:Nürnberg\, Königstraße 39\, Nürnberg\, Bayern\, 90402
CATEGORIES:Nürnberg
ATTACH;FMTTYPE=image/jpeg:https://treffpunkt-philosophie.de/wp-content/uploads/2025/06/Pythagoras-Wikimedia-Commons-e1760976755155.jpg
END:VEVENT
BEGIN:VEVENT
DTSTART;TZID=UTC:20251025T180000
DTEND;TZID=UTC:20251025T235900
DTSTAMP:20260422T113441
CREATED:20250618T163831Z
LAST-MODIFIED:20250716T143814Z
UID:18583-1761415200-1761436740@treffpunkt-philosophie.de
SUMMARY:Lange Nacht der Wissenschaften 2025
DESCRIPTION:Vortragsreihe zum Thema „Licht schaffen!“ \n\n\n\n\n\n\n\n\n\n\n\nLange Nacht der Wissenschaften 2025Wichtige Meilensteine in der Erforschung unserer Welt verdanken wir sog. „zündenden“ Ideen oder „Ein-Fällen“ (z.B. Nikola Tesla u.v.m.). Geschwindigkeit und Richtung des wissenschaftlichen Fortschritts sind also neben Fleiß auch eine Frage des „Bewusst-Seins“. \n\n\n\nDie Vortragsreihe „Licht schaffen“ präsentiert aus philosophischer Sicht verschiedene Methoden und Aspekte auf unserem Weg zu mehr Erkenntnis:  \n\n\n\n18:00 Uhr – Sara Täumer: „Resonanz und Harmonie – was wir von Pythagoras noch lernen können.“ \n\n\n\n19:30 Uhr: „Die Sphären des Bewusstseins – eine Abenteuerreise für den Geist.“ \n\n\n\n21:00 Uhr: „Nach oben zum Licht! – von gotischen Kathedralen und genialen Erfindern.“ \n\n\n\n22:30 Uhr: „Die Wichtigkeit von Philosophie in der Wissenschaft.“ \n\n\n\n\n\nVortragende: \n\n\n\n\n\n\n\nSara Täumerstudierte unter anderem Philosophie und Musik in Würzburg. Im Treffpunkt Philosophie ist sie seit einigen Jahren als Lehrerin\, Vortragende und Workshopleiterin aktiv. \n\n\n\n\n\n\n\nWalter Krejci MBAist seit bald 30 Jahren im Bereich der praktischen Philosophie aktiv. Als Verantwortungsträger in der Wirtschaft war er viele Jahre auch nahe am praktischen gesellschaftlichen Geschehen. Er beschäftigt sich mit westlicher wie östlicher Philosophie\, ist Vortragender und Kursleiter sowie Verfasser von philosophischen Artikeln in der Zeitschrift „Abenteuer Philosophie“.2007 gründete er eine Niederlassung von Treffpunkt Philosophie in Nürnberg und ist seither in deren Leitung mitengagiert. \n\n\n\n\n\n\n\nMarijana Bosnarhat als Erzieherin und Pädagogin mit Kindern\, Jugendlichen und deren Eltern gearbeitet.Sie engagiert sich seit über 35 Jahren im Bereich der praktischen Philosophie und in der Erwachsenenbildung. Sie hält regelmäßig Kurse\, Vorträge und Workshops. \n\n\n\nSeit 2013 ist sie Leiterin von Treffpunkt-Philosophie Nürnberg. \n\n\n\nMiguel Campollo Dr. med.Dr. Miguel Campollo ist ein guatemaltekischer Allgemeinmediziner mit über zehn Jahren Erfahrung in der Primärversorgung und sieben Jahren als Universitätsdozent in verschiedenen medizinischen Disziplinen (Anatomie\, Biologie\, Zytohistologie\, alternative Medizin\, medizinische Anthropologie). \n\n\n\nSeit 12 Jahren engagiert er sich aktiv in der Schule Nueva Acrópolis\, wo er die praktische Anwendung der Philosophie im Alltag durch philosophische Kurse\, Voluntariat und kulturelle Aktivitäten erforscht \n\n\n\n\n\n\n\n\n\n\n\n\n\nFacebook\n\nInstagram
URL:https://treffpunkt-philosophie.de/veranstaltungen/lange-nacht-der-wissenschaften-2025/
LOCATION:Nürnberg\, Königstraße 39\, Nürnberg\, Bayern\, 90402
CATEGORIES:Nürnberg
ATTACH;FMTTYPE=image/jpeg:https://treffpunkt-philosophie.de/wp-content/uploads/2025/06/ndw25_Instagram_Post_1080x1080px.jpg
ORGANIZER;CN="Treffpunkt Philosophie e.V. N%C3%BCrnberg":MAILTO:nuernberg@treffpunkt-philosophie.de
END:VEVENT
BEGIN:VEVENT
DTSTART;TZID=UTC:20251025T210000
DTEND;TZID=UTC:20251025T220000
DTSTAMP:20260422T113441
CREATED:20250913T153455Z
LAST-MODIFIED:20251020T193605Z
UID:18718-1761426000-1761429600@treffpunkt-philosophie.de
SUMMARY:Nach oben zum Licht! - von gotischen Kathedralen und genialen Erfindern
DESCRIPTION:Lange Nacht der Wissenschaft 2025 – „Licht schaffen!“ \n\n\n\n\n\n\n\n\n\n\n\nWichtige Meilensteine in der Erforschung unserer Welt verdanken wir sog. „zündenden“ Ideen oder „Ein-Fällen“ (z.B. Nikola Tesla u.v.m.). Geschwindigkeit und Richtung des wissenschaftlichen Fortschritts sind also neben Fleiß auch eine Frage des „Bewusst-Seins“. \n\n\n\nDie Vortragsreihe „Licht schaffen“ präsentiert aus philosophischer Sicht verschiedene Methoden und Aspekte auf unserem Weg zu mehr Erkenntnis. \n\n\n\nIn diesem Vortrag geht es um gotische Kathedralen und geniale Erfinder. \n\n\n\nLicht bedeutet Leben. Immer war es auch ein Symbol des Göttlichen\, das Wissenschaftler wie Mystiker inspirierte. Was also steckt „hinter“ dem Licht? \n\n\n\n\n\nVortragende: \n\n\n\n\n\n\n\nMarijana Bosnar \n\n\n\nhat als Erzieherin und Pädagogin mit Kindern\, Jugendlichen und deren Eltern gearbeitet.Sie engagiert sich seit über 35 Jahren im Bereich der praktischen Philosophie und in der Erwachsenenbildung. Sie hält regelmäßig Kurse\, Vorträge und Workshops. \n\n\n\nSeit 2013 ist sie Leiterin der Neuen Akropolis Treffpunkt-Philosophie Nürnberg. \n\n\n\n\n\n\n\n\n\n \n\n\n\nFacebook\n\nInstagram
URL:https://treffpunkt-philosophie.de/veranstaltungen/nach-oben-zum-licht-von-gotischen-kathedralen-und-genialen-erfindern/
LOCATION:Nürnberg\, Königstraße 39\, Nürnberg\, Bayern\, 90402
CATEGORIES:Nürnberg
ATTACH;FMTTYPE=image/jpeg:https://treffpunkt-philosophie.de/wp-content/uploads/2025/07/Tesla-bulb-Wikimedia-Commons.jpg
ORGANIZER;CN="Treffpunkt Philosophie e.V. N%C3%BCrnberg":MAILTO:nuernberg@treffpunkt-philosophie.de
END:VEVENT
BEGIN:VEVENT
DTSTART;TZID=UTC:20251025T223000
DTEND;TZID=UTC:20251025T233000
DTSTAMP:20260422T113441
CREATED:20250913T153632Z
LAST-MODIFIED:20251008T143131Z
UID:18598-1761431400-1761435000@treffpunkt-philosophie.de
SUMMARY:Die Wichtigkeit von Philosophie in der Wissenschaft
DESCRIPTION:Lange Nacht der Wissenschaft 2025 – „Licht schaffen!“ \n\n\n\n\n\n\n\n\n\n\n\nWichtige Meilensteine in der Erforschung unserer Welt verdanken wir sog. „zündenden“ Ideen oder „Ein-Fällen“ (z.B. Nikola Tesla u.v.m.). Geschwindigkeit und Richtung des wissenschaftlichen Fortschritts sind also neben Fleiß auch eine Frage des „Bewusst-Seins“. \n\n\n\nDie Vortragsreihe „Licht schaffen“ präsentiert aus philosophischer Sicht verschiedene Methoden und Aspekte auf unserem Weg zu mehr Erkenntnis. \n\n\n\nIn diesem Vortrag wird „Die Wichtigkeit von Philosophie in der Wissenschaft“ erörtert. \n\n\n\nHeute schreitet die Wissenschaft in nie gekanntem Tempo voran. Selten hält man inne und fragt nach der Richtung und den Auswirkungen für den Menschen und die Welt. \n\n\n\nHier kann und muss die praktische Philosophie eine grundlegende Rolle einnehmen\, um ein Leuchtturm inmitten einer Überfülle an Informationen\, Widersprüchen und Meinungen zu sein. \n\n\n\n\n\nVortragender: \n\n\n\nMiguel Campollo  \n\n\n\n Dr. Miguel Campollo ist ein guatemaltekischer Allgemeinmediziner mit über zehn Jahren Erfahrung in der Primärversorgung und sieben Jahren als Universitätsdozent in verschiedenen medizinischen Disziplinen (Anatomie\, Biologie\, Zytohistologie\, alternative Medizin\, medizinische Anthropologie). \n\n\n\n\n\n\n\n\n\nFacebook\n\nInstagram
URL:https://treffpunkt-philosophie.de/veranstaltungen/die-wichtigkeit-von-philosophie-in-der-wissenschaft/
LOCATION:Nürnberg\, Königstraße 39\, Nürnberg\, Bayern\, 90402
CATEGORIES:Nürnberg
ATTACH;FMTTYPE=image/jpeg:https://treffpunkt-philosophie.de/wp-content/uploads/2025/06/20250523_183724-e1760988761385.jpg
ORGANIZER;CN="Treffpunkt Philosophie e.V. N%C3%BCrnberg":MAILTO:nuernberg@treffpunkt-philosophie.de
END:VEVENT
BEGIN:VEVENT
DTSTART;TZID=UTC:20251028T180000
DTEND;TZID=UTC:20251028T190000
DTSTAMP:20260422T113441
CREATED:20250914T120733Z
LAST-MODIFIED:20251021T142147Z
UID:19109-1761674400-1761678000@treffpunkt-philosophie.de
SUMMARY:Philosophie lebt! Infostunde zum Kurs „Praktische Philosophie“
DESCRIPTION:Kostenlose Infostunde zum Kurs „Praktische Philosophie“• Philosophischer Input• Infos zum Kurs\, der am Di.\, 18.11.25 beginnt \n\n\n\nErlebe Philosophie einfach und lebensnah! Erfahre an diesem Abend mehr über die Kursthemen\, sowie Näheres zum Kursablauf und einen ersten Input zum Thema „Was ist der Mensch?“ \n\n\n\nBeginne das Abenteuer „Praktische Philosophie“: Eine Reise durch die verschiedenen Philosophien und Weisheitslehren aus Ost und West. Mit philosophischen Gesprächen\, praktischen Übungen zur philosophischen Lebenskunst für den Alltag. Reflexion über die Lage der Welt und wie wir sie gemeinsam zum Besseren verändern können. \n\n\n\nAre you up for the challenge? \n\n\n\n\n\nInhalt des Kurses: \n\n\n\n\nWer bin ich? – Geist und Materie im Menschen\n\n\n\nWas ist der Sinn des Lebens? – Philosophie der Geschichte\n\n\n\nWie lebe ich gerecht? – Platon und sein Höhlengleichnis\n\n\n\nGibt es ein Leben nach dem Tod? – Spiritualität im alten Ägypten\n\n\n\nWarum gibt es Leid? – Buddhismus & der Weg der Goldenen Mitte\n\n\n\nWie können wir aktiv die Welt gestalten? – Gelebter Idealismus im Alltag\n\n\n\nWie erreiche ich Mut\, Gelassenheit & innere Freiheit? – „Carpe Diem“ in Rom\n\n\n\n\n\n\nFür wen ist der Kurs? \n\n\n\nBesondere Vorkenntnisse oder Vorbereitung sind nicht nötig. \n\n\n\nWeitere Informationen zur Infostunde: \n\n\n\nPREISE: kostenlos \n\n\n\n \n\n\n\n\n\nINTERESSIERT?Besuche unsere kostenlose Infostunde: \n\n\n\n\n\n\n💌 Jetzt Platz sichern\n\n\n\n\n\n\n\n💬Noch Fragen offen?\n\n\n\n\n\n\n \n\n\n\n\n\n\n\nInstagram\n\nFacebook
URL:https://treffpunkt-philosophie.de/veranstaltungen/philosophie-lebt-infostunde-zum-kurs-praktische-philosophie-26/
LOCATION:Stuttgart\, Theodor-Heuss-Str. 16\, Stuttgart\, 70174
CATEGORIES:Stuttgart
ATTACH;FMTTYPE=image/png:https://treffpunkt-philosophie.de/wp-content/uploads/2025/09/LPZ_Flyer_Ausbildungskurs_2023-98-×-98-mm-2-1.png
END:VEVENT
END:VCALENDAR