BEGIN:VCALENDAR
VERSION:2.0
PRODID:-//Treffpunkt Philosophie - ECPv6.15.20//NONSGML v1.0//EN
CALSCALE:GREGORIAN
METHOD:PUBLISH
X-ORIGINAL-URL:https://treffpunkt-philosophie.de
X-WR-CALDESC:Veranstaltungen für Treffpunkt Philosophie
REFRESH-INTERVAL;VALUE=DURATION:PT1H
X-Robots-Tag:noindex
X-PUBLISHED-TTL:PT1H
BEGIN:VTIMEZONE
TZID:UTC
BEGIN:STANDARD
TZOFFSETFROM:+0000
TZOFFSETTO:+0000
TZNAME:UTC
DTSTART:20250101T000000
END:STANDARD
END:VTIMEZONE
BEGIN:VEVENT
DTSTART;TZID=UTC:20260311T180000
DTEND;TZID=UTC:20260311T190000
DTSTAMP:20260425T113424
CREATED:20260116T135144Z
LAST-MODIFIED:20260116T135811Z
UID:20021-1773252000-1773255600@treffpunkt-philosophie.de
SUMMARY:Philosophie für den Alltag! Infostunde zum Kurs „Praktische Philosophie“
DESCRIPTION:Kostenlose Infostunde zum Kurs „Praktische Philosophie“• Philosophischer Input• Infos zum Kurs\, der am Di.\, 12.05.26 beginntErlebe Philosophie einfach und lebensnah! Erfahre an diesem Abend mehr über die Kursthemen\, sowie Näheres zum Kursablauf und einen ersten Input zum Thema „Was ist der Mensch?“ \n\n\n\nBeginne das Abenteuer „Praktische Philosophie“: Eine Reise durch die verschiedenen Philosophien und Weisheitslehren aus Ost und West. Mit philosophischen Gesprächen\, praktischen Übungen zur philosophischen Lebenskunst für den Alltag. Reflexion über die Lage der Welt und wie wir sie gemeinsam zum Besseren verändern können.Are you up for the challenge? \n\n\n\n\n\nInhalt des Kurses: \n\n\n\n\nWer bin ich? – Geist und Materie im Menschen\n\n\n\nWas ist der Sinn des Lebens? – Philosophie der Geschichte\n\n\n\nWie lebe ich gerecht? – Platon und sein Höhlengleichnis\n\n\n\nGibt es ein Leben nach dem Tod? – Spiritualität im alten Ägypten\n\n\n\nWarum gibt es Leid? Buddhismus & der Weg der Goldenen Mitte\n\n\n\nWie können wir aktiv die Welt gestalten? – Gelebter Idealismus im Alltag \n\n\n\nWie erreiche ich Mut\, Gelassenheit & innere Freiheit? – „Carpe Diem“ in Rom\n\n\n\n\n\n\nFür wen ist der Kurs? \n\n\n\nBesondere Vorkenntnisse oder Vorbereitung sind nicht nötig. \n\n\n\nWeitere Informationen zur Infostunde: \n\n\n\nPREISE: kostenlos \n\n\n\n \n\n\n\n\n\n\n\nINTERESSIERT?Besuche unsere kostenlose Infostunde: \n\n\n\n\n\n💌 Jetzt Platz sichern \n\n\n\n\n\n💬Noch Fragen offen? \n\n\n\n\n\n \n\n\n\n \n\n\n\n \n\n\n\n\n\n\n\n \n\n\n\n \n\n\n\n \n\n\n\n\nNicht verpassen! Folge uns auf Instagram!
URL:https://treffpunkt-philosophie.de/veranstaltungen/philosophie-fuer-den-alltag-infostunde-zum-kurs-praktische-philosophie-9/
LOCATION:Stuttgart\, Theodor-Heuss-Str. 16\, Stuttgart\, 70174
CATEGORIES:Stuttgart
ATTACH;FMTTYPE=image/jpeg:https://treffpunkt-philosophie.de/wp-content/uploads/2026/01/Design-ohne-Titel1.jpg
END:VEVENT
BEGIN:VEVENT
DTSTART;TZID=UTC:20260324T180000
DTEND;TZID=UTC:20260324T190000
DTSTAMP:20260425T113424
CREATED:20260110T130413Z
LAST-MODIFIED:20260110T145410Z
UID:19868-1774375200-1774378800@treffpunkt-philosophie.de
SUMMARY:Philosophie für den Alltag! Infostunde zum Kurs „Praktische Philosophie“
DESCRIPTION:Kostenlose Infostunde zum Kurs „Praktische Philosophie“• Philosophischer Input• Infos zum Kurs\, der am Di.\, 12.05.26 um 19 Uhr beginntErlebe Philosophie einfach und lebensnah! Erfahre an diesem Abend mehr über die Kursthemen\, sowie Näheres zum Kursablauf und einen ersten Input zum Thema „Was ist der Mensch?“ \n\n\n\nBeginne das Abenteuer „Praktische Philosophie“: Eine Reise durch die verschiedenen Philosophien und Weisheitslehren aus Ost und West. Mit philosophischen Gesprächen\, praktischen Übungen zur philosophischen Lebenskunst für den Alltag. Reflexion über die Lage der Welt und wie wir sie gemeinsam zum Besseren verändern können.Are you up for the challenge? \n\n\n\n\n\nInhalt des Kurses: \n\n\n\n\nWer bin ich? – Geist und Materie im Menschen\n\n\n\nWas ist der Sinn des Lebens? – Philosophie der Geschichte\n\n\n\nWie lebe ich gerecht? – Platon und sein Höhlengleichnis\n\n\n\nGibt es ein Leben nach dem Tod? – Spiritualität im alten Ägypten\n\n\n\nWarum gibt es Leid? Buddhismus & der Weg der Goldenen Mitte\n\n\n\nWie können wir aktiv die Welt gestalten? – Gelebter Idealismus im Alltag\n\n\n\nWie erreiche ich Mut\, Gelassenheit & innere Freiheit? – „Carpe Diem“ in Rom\n\n\n\n\n\n\nFür wen ist der Kurs? \n\n\n\nBesondere Vorkenntnisse oder Vorbereitung sind nicht nötig. \n\n\n\nWeitere Informationen zur Infostunde: \n\n\n\nPREISE: kostenlos \n\n\n\n\n\nINTERESSIERT?Besuche unsere kostenlose Infostunde: \n\n\n\n\n\n💌 Jetzt Platz sichern \n\n\n\n\n\n💬Noch Fragen offen?
URL:https://treffpunkt-philosophie.de/veranstaltungen/philosophie-fuer-den-alltag-infostunde-zum-kurs-praktische-philosophie/
LOCATION:Stuttgart\, Theodor-Heuss-Str. 16\, Stuttgart\, 70174
CATEGORIES:Stuttgart
ATTACH;FMTTYPE=image/jpeg:https://treffpunkt-philosophie.de/wp-content/uploads/2026/01/Design-ohne-Titel1.jpg
END:VEVENT
BEGIN:VEVENT
DTSTART;TZID=UTC:20260324T190000
DTEND;TZID=UTC:20260324T203000
DTSTAMP:20260425T113425
CREATED:20260203T111715Z
LAST-MODIFIED:20260305T123108Z
UID:20126-1774378800-1774384200@treffpunkt-philosophie.de
SUMMARY:ZWISCHEN den ZEILEN
DESCRIPTION:Book Lab für Denken\, Dialog und gutes Leben\n\n\n\n\n\nLesen öffnet Fenster – und manchmal ganze Räume. \n\n\n\n\n\n\n\n\n\n\n\nInhalt: \n\n\n\nZwischen den Zeilen ist ein offenes Book Lab für alle\, die Lust haben\, Bücher nicht nur zu lesen\, sondern gemeinsam weiterzudenken. Wir sprechen über Texte\, die große Fragen stellen: über Gesellschaft\, Beziehungen und darüber\, was ein gutes Leben heute ausmacht. In entspannter Atmosphäre tauschen wir Gedanken aus\, hören zu\, widersprechen uns und nehmen neue Perspektiven mit. \n\n\n\nWarum mitmachen? \n\n\n\n\nVorstellungskraft stärken – eine der authentischsten Fähigkeiten des Menschen\n\n\n\nEmpathie vertiefen – sich in andere Menschen und Perspektiven hineinversetzen\n\n\n\nKonzentration trainieren – wie im Gespräch mit einer guten Freundin\n\n\n\nNeue Blickwinkel entdecken – und eigene Überzeugungen prüfen\n\n\n\nIdeen lebendig machen – gemeinsam denken\, lachen\, wachsen\n\n\n\n\nSo läuft ein Abend ab (ca. 90–120 Min.) \n\n\n\n\nKurzimpuls zum Buch (verständlich & alltagsnah)\n\n\n\nAustausch in Kleingruppen mit Leitfragen\n\n\n\nRunde im Plenum: Einsichten & Take-aways\n\n\n\nAnregungen für den philosophischen Alltag\n\n\n\n\nFür wen ist das? \n\n\n\nFür Neugierige\, Sinnsuchende und Pragmatiker. Keine Vorkenntnisse nötig – nur Lust aufs Lesen und schöne Gespräche. \n\n\n\nKomm vorbei\, bring Neugier mit\, und geh mit mehr nach Hause als nur einer Meinung. \n\n\n\nUnsere nächste Lektüre:  \n\n\n\nDas Gastmahl – Über die Liebe (Platon) \n\n\n\n\n\nReferent: \n\n\n\nMartin Oßberger hat als Wissenschaftler in vielen Bereichen der Forschung und Entwicklung gearbeitet; in der pharmazeutischen Industrie\, der Hochschule\, in Gymnasien und non-profit Unternehmen. Seit 25 Jahren engagiert er sich ehrenamtlich\, anfangs bei der AIDS-Hilfe und Obdachlosenunterstützung. Dann begeisterte er sich für die praktische Philosophie\, die er beim gemeinnützigen Verein Treffpunkt Philosophie kennen lernte. Dort gibt er Kurse und bietet Seminare und erlebnispädagogische Veranstaltungen an. Vor zwei Jahren zog es ihn von seinem Geburtsort München nach Leipzig\, wo er den Vereinssitz von Treffpunkt Philosophie leitet. \n\n\n\n\n\n\n\n\n\n \n\n\n\n\n\n\nPlatz sichern\n\n\n\n\n \n\n\n\n\n\n\n\nWeitere EVENTS \n\n\n\nUnser Kurs Praktische Philosophie könnte dich auch interessieren: \n\n\n\n\nEine Reise durch die verschiedenen Philosophien und Weisheitslehren aus Ost und West an 19 Abenden\, mit philosophischen Gesprächen\, praktischen Übungen zur philosophischen Lebenskunst für den Alltag und Reflexion über die Lage der Welt & wie wir sie gemeinsam zum Besseren verändern können. \n\n\n\nAre you up for the challenge? \n\n\n\n\nMehr Infos\n\n\n\nAnmelden\n\n\n\n\n\n \n\n\n\n\n\n\n\nFacebook\n\nInstagram\n\nWhatsApp
URL:https://treffpunkt-philosophie.de/veranstaltungen/zwischen-den-zeilen/
LOCATION:Leipzig\, Käthe-Kollwitz-Str. 113\, Leipzig\, 04109
CATEGORIES:Leipzig
ATTACH;FMTTYPE=image/png:https://treffpunkt-philosophie.de/wp-content/uploads/2026/01/LPZ_Book-Lab_2026.png
END:VEVENT
BEGIN:VEVENT
DTSTART;TZID=UTC:20260325T180000
DTEND;TZID=UTC:20260325T190000
DTSTAMP:20260425T113425
CREATED:20260120T152546Z
LAST-MODIFIED:20260120T152723Z
UID:20046-1774461600-1774465200@treffpunkt-philosophie.de
SUMMARY:Philosophie für den Alltag! Infostunde zum Kurs „Praktische Philosophie“
DESCRIPTION:Kostenlose Infostunde zum Kurs „Praktische Philosophie“• Philosophischer Input• Infos zum Kurs\, der am Di.\, 12.05.26 beginntErlebe Philosophie einfach und lebensnah! Erfahre an diesem Abend mehr über die Kursthemen\, sowie Näheres zum Kursablauf und einen ersten Input zum Thema „Was ist der Mensch?“ \n\n\n\nBeginne das Abenteuer „Praktische Philosophie“: Eine Reise durch die verschiedenen Philosophien und Weisheitslehren aus Ost und West. Mit philosophischen Gesprächen\, praktischen Übungen zur philosophischen Lebenskunst für den Alltag. Reflexion über die Lage der Welt und wie wir sie gemeinsam zum Besseren verändern können.Are you up for the challenge? \n\n\n\n\n\nInhalt des Kurses: \n\n\n\n\nWer bin ich? – Geist und Materie im Menschen\n\n\n\nWas ist der Sinn des Lebens? – Philosophie der Geschichte\n\n\n\nWie lebe ich gerecht? – Platon und sein Höhlengleichnis\n\n\n\nGibt es ein Leben nach dem Tod? – Spiritualität im alten Ägypten\n\n\n\nWarum gibt es Leid? Buddhismus & der Weg der Goldenen Mitte\n\n\n\nWie können wir aktiv die Welt gestalten? – Gelebter Idealismus im Alltag \n\n\n\nWie erreiche ich Mut\, Gelassenheit & innere Freiheit? – „Carpe Diem“ in Rom\n\n\n\n\n\n\nFür wen ist der Kurs? \n\n\n\nBesondere Vorkenntnisse oder Vorbereitung sind nicht nötig. \n\n\n\nWeitere Informationen zur Infostunde: \n\n\n\nPREISE: kostenlos \n\n\n\n \n\n\n\n\n\n \n\n\n\n\n\nINTERESSIERT?Besuche unsere kostenlose Infostunde: \n\n\n\n\n\n💌 Jetzt Platz sichern \n\n\n\n\n\n💬Noch Fragen offen? \n\n\n\n\n\n \n\n\n\n\nNicht verpassen! Folge uns auf Instagram!
URL:https://treffpunkt-philosophie.de/veranstaltungen/philosophie-fuer-den-alltag-infostunde-zum-kurs-praktische-philosophie-10/
LOCATION:Stuttgart\, Theodor-Heuss-Str. 16\, Stuttgart\, 70174
ATTACH;FMTTYPE=image/jpeg:https://treffpunkt-philosophie.de/wp-content/uploads/2026/01/Design-ohne-Titel1.jpg
END:VEVENT
END:VCALENDAR